Workbook

Sheet 1、部门收支总表
H1: 表-01
A2: 部门收支总表
A3: 单位：岳阳县教育体育局(汇总) | H3: 单位:万元
A4: 收 入 | C4: 支 出
A5: 项 目 | B5: 本年预算 | C5: 功能分类科目 | D5: 本年预算 | E5: 部门预算经济分类 | F5: 本年预算 | G5: 政府预算经济分类 | H5: 本年预算
A6: 一、一般预算拨款(补助) | B6: =B7+B8 -> 96720 | C6: 一、一般公共服务支出 | E6: 一、基本支出 | F6: =F7+F8+F9 -> 95452.03 | G6: 一、机关工资福利支出 | H6: 1288.96
A7: 经费拨款(补助) | B7: 96720 | C7: 二、国防支出 | E7: 工资福利支出 | F7: 64447.87 | G7: 二、机关商品和服务支出 | H7: 306.72
A8: 纳入一般公共预算管理的非税收入拨款 | C8: 三、公共安全支出 | E8: 商品和服务支出 | F8: 15336.17 | G8: 三、机关资本性支出（一） | H8: 41.95
A9: 二、纳入专户管理的非税收入拨款 | B9: 10167 | C9: 四、教育支出 | D9: =B28 -> 121286 | E9: 对个人和家庭的补助 | F9: 15667.99 | G9: 四、机关资本性支出（二）
A10: 三、政府性基金拨款 | C10: 五、科学技术支出 | E10: 二、项目支出 | F10: =F11+F12+F13+F14+F15+F16+F17 -> 25833.97 | G10: 五、对事业单位经常性补助 | H10: 117656.26
A11: 四、事业单位经营服务收入 | C11: 六、文化体育与传媒支出 | E11: 专项商品和服务支出 | F11: 8358.14 | G11: 六、对事业单位资本性补助
A12: 五、上级补助收入 | C12: 七、社会保障和就业支出 | E12: 对企业补助 | G12: 七、对企业补助
A13: 六、附属单位上缴收入 | C13: 八、医疗卫生与计划生育支出 | E13: 债务利息及费用支出 | G13: 八、对企业资本性支出
A14: 七、其他收入 | B14: 14399 | C14: 九、节能环保支出 | E14: 对社会保障基金补助 | G14: 九、对个人和家庭的补助
C15: 十、城乡社区支出 | E15: 资本性支出(基本建设) | G15: 十、对社会保障基金补助
C16: 十一、农林水支出 | E16: 资本性支出 | F16: 4195.08 | G16: 十一、债务利息及费用支出
C17: 十二、交通运输支出 | E17: 其他支出 | F17: 13280.75 | G17: 十二、债务还本支出
C18: 十三、资源勘探信息等支出 | E18: 三、事业单位经营支出 | G18: 十三、转移性支出
C19: 十四、商业服务业等支出 | E19: 四、对附属单位补助支出 | G19: 十四、预备费及预留
C20: 十五、国土海洋气象等支出 | E20: 五、上级上缴支出 | G20: 十五、其他支出 | H20: 1992.11
C21: 十六、住房保障支出
C22: 十七、粮油物资储备支出
C23: 十八、预备费
C24: 十九、其他支出
C25: 二十、债务还本支出
A26: 本 年 收 入 合 计 | B26: =B6+B14+B9+B10 -> 121286 | C26: 本 年 支 出 合 计 | D26: =D9 -> 121286 | E26: 本 年 支 出 合 计 | F26: =F6+F10 -> 121286 | G26: 本 年 支 出 合 计 | H26: =SUM(H6:H20) -> 121286
A27: 八、上年结转
A28: 收 入 总 计 | B28: =B26 -> 121286 | C28: 支 出 总 计 | D28: =D26 -> 121286 | E28: 支 出 总 计 | F28: =F26 -> 121286 | G28: 支 出 总 计 | H28: =H26 -> 121286

Sheet 2、部门收入总表
M1: 表-02
A2: 部门收入总表
A3: 单位：岳阳县教育体育局(汇总) | L3: 单位：万元
A4: 单位代码 | B4: 单位名称 | C4: 合计 | D4: 一般预算拨款（补助） | G4: 纳入专户管理的非税收入拨款 | H4: 政府性基金拨款 | I4: 事业单位经营收入 | J4: 上级补助收入 | K4: 附属单位上缴收入 | L4: 其他收入 | M4: 上年结转
D5: 小计 | E5: 经费拨款 | F5: 纳入预算管理的非税收入拨款
A6: ** | B6: ** | C6: 1 | D6: 2 | E6: 3 | F6: 4 | G6: 5 | H6: 6 | I6: 7 | J6: 8 | K6: 9 | L6: 10 | M6: 11
B7: 合计 | C7: =C8 -> 121286 | D7: =D8 -> 96720 | E7: =E8 -> 96720 | F7: =F8 -> 0 | G7: =G8 -> 10167 | H7: =H8 -> 0 | I7: =I8 -> 0 | J7: =J8 -> 0 | ... M7: =M8 -> 0
A8: 084 | B8: 岳阳县教育体育局(汇总) | C8: =D8+G8+H8+I8+J8+K8+L8+M8 -> 121286 | D8: =E8+F8 -> 96720 | E8: ='1、部门收支总表'!B7 -> 96720 | G8: ='1、部门收支总表'!B9 -> 10167 | L8: ='1、部门收支总表'!B14 -> 14399

Sheet 3、部门支出总表 
P1: 表-03
A2: 部门支出总表
A3: 单位：岳阳县教育体育局(汇总) | O3: 单位：万元
A4: 科目编码 | D4: 单位代码 | E4: 单位名称（功能科目） | F4: 总 计 | G4: 一般预算拨款（补助） | J4: 纳入专户管理的非税收入拨款 | K4: 政府性基金拨款 | L4: 事业单位经营收入 | M4: 上级补助收入 | N4: 附属单位上缴收入 | O4: 其他收入 | P4: 上年结转
A5: 类 | B5: 款 | C5: 项 | G5: 小计 | H5: 经费拨款 | I5: 纳入预算管理的非税收入拨款
A6: ** | B6: ** | C6: ** | D6: ** | E6: ** | F6: 1 | G6: 2 | H6: 3 | I6: 4 | J6: 5 | K6: 6 | L6: 7 | M6: 8 | N6: 9 | O6: 10 | P6: 11
A7: 合计 | D7: 084 | E7: 岳阳县教育体育局(汇总) | F7: =F8 -> 121286 | G7: =G8 -> 96720 | H7: =H8 -> 96720 | I7: =I8 -> 0 | J7: =J8 -> 10167 | K7: =K8 -> 0 | L7: =L8 -> 0 | M7: =M8 -> 0 | ... P7: =P8 -> 0
A8: 205 | E8: 教育支出 | F8: =F9+F11+F16+F18 -> 121286 | G8: =G9+G11+G16+G18 -> 96720 | H8: =H9+H11+H16+H18 -> 96720 | I8: =I9+I11+I16+I18 -> 0 | J8: =J9+J11+J16+J18 -> 10167 | K8: =K9+K11+K16+K18 -> 0 | L8: =L9+L11+L16+L18 -> 0 | M8: =M9+M11+M16+M18 -> 0 | ... P8: =P9+P11+P16+P18 -> 0
A9: 205 | B9: 01 | E9: 教育管理事务 | F9: =SUM(G9,J9:P9) -> 2885.92 | G9: =H9+I9 -> 1973.92 | H9: =H10 -> 1973.92 | I9: =I10 -> 0 | J9: =J10 -> 767 | K9: =K10 -> 0 | L9: =L10 -> 0 | M9: =M10 -> 0 | N9: =N10 -> 0 | O9: =O10 -> 145 | P9: =P10 -> 0
A10: 205 | B10: 01 | C10: 02 | D10: 084 | E10: 一般行政管理事务 | F10: =SUM(G10,J10:P10) -> 2885.92 | G10: =H10+I10 -> 1973.92 | H10: 1973.92 | J10: 767 | O10: 145
A11: 205 | B11: 02 | E11: 普通教育 | F11: =SUM(G11,J11:P11) -> 109741.43 | G11: =G12+G13+G14+G15 -> 88046.68 | H11: =H12+H13+H14+H15 -> 88046.68 | I11: =I12+I13+I14+I15 -> 0 | J11: =J12+J13+J14+J15 -> 7766.75 | K11: =K12+K13+K14+K15 -> 0 | L11: =L12+L13+L14+L15 -> 0 | M11: =M12+M13+M14+M15 -> 0 | N11: =N12+N13+N14+N15 -> 0 | ... P11: =P12+P13+P14+P15 -> 0
A12: 205 | B12: 02 | C12: 01 | D12: 084 | E12: 学前教育 | F12: =SUM(G12,J12:P12) -> 9662.33 | G12: =H12+I12 -> 4402.33 | H12: 4402.33 | O12: 5260
A13: 205 | B13: 02 | C13: 02 | D13: 084 | E13: 小学教育 | F13: =SUM(G13,J13:P13) -> 13094.8 | G13: =H13+I13 -> 8804.67 | H13: 8804.67 | J13: 1886.13 | O13: 2404
A14: 205 | B14: 02 | C14: 03 | D14: 084 | E14: 初中教育 | F14: =SUM(G14,J14:P14) -> 45395.63 | G14: =H14+I14 -> 39621.01 | H14: 39621.01 | J14: 2363.62 | O14: 3411
A15: 205 | B15: 02 | C15: 04 | D15: 084 | E15: 高中教育 | F15: =SUM(G15,J15:P15) -> 41588.67 | G15: =H15+I15 -> 35218.67 | H15: 35218.67 | J15: 3517 | O15: 2853
A16: 205 | B16: 03 | D16: 084 | E16: 职业教育 | F16: =SUM(G16,J16:P16) -> 7392.88 | G16: =G17 -> 5729.88 | H16: =H17 -> 5729.88 | I16: =I17 -> 0 | J16: =J17 -> 1337 | K16: =K17 -> 0 | L16: =L17 -> 0 | M16: =M17 -> 0 | N16: =N17 -> 0 | ... P16: =P17 -> 0
A17: 205 | B17: 03 | C17: 02 | D17: 084 | E17: 中职业教育 | F17: =SUM(G17,J17:P17) -> 7392.88 | G17: =H17+I17 -> 5729.88 | H17: 5729.88 | J17: 1337 | O17: 326
A18: 205 | B18: 07 | D18: 084 | E18: 特殊教育 | F18: =SUM(G18,J18:P18) -> 1265.77 | G18: =G19 -> 969.52 | H18: =H19 -> 969.52 | I18: =I19 -> 0 | J18: =J19 -> 296.25 | K18: =K19 -> 0 | L18: =L19 -> 0 | M18: =M19 -> 0 | N18: =N19 -> 0 | ... P18: =P19 -> 0
A19: 205 | B19: 07 | C19: 01 | D19: 084 | E19: 特殊学校教育 | F19: =SUM(G19,J19:P19) -> 1265.77 | G19: =H19+I19 -> 969.52 | H19: 969.52 | J19: 296.25
H22: 88745 | J22: 7374 | K22: 1000 | O22: 1407

Sheet 4、部门支出总表（分类）
T1: 表-04
A2: 部门支出总表（分类）
A3: 单位：岳阳县教育体育局(汇总) | T3: 单位：万元
A4: 功能科目 | D4: 单位代码 | E4: 单位名称（功能科目） | F4: 经济科目 | G4: 基本支出 | K4: 项目支出 | S4: 事业单位经营支出 | T4: 对附属单位补助支出 | U4: 上缴上级支出
A5: 类 | B5: 款 | C5: 项 | G5: 合计 | H5: 工资福利支出 | I5: 一般商品和服务支出 | J5: 对个人和家庭的补助 | K5: 合计 | L5: 专项商品和服务支出 | M5: 对企业补助 | N5: 债务利息及费用支出 | O5: 对社会保障基金补助 | P5: 资本性支出(基本建设) | Q5: 资本性支出 | R5: 其他支出
F6: 总 计
A7: ** | B7: ** | C7: ** | D7: ** | E7: ** | F7: 1 | G7: 2 | H7: 3 | I7: 4 | J7: 5 | K7: 6 | L7: 7 | M7: 8 | N7: 9 | O7: 10 | P7: 11 | Q7: 12 | R7: 13 | S7: 14 | T7: 15 | U7: 16
A8: 合计 | D8: 084 | E8: 岳阳县教育体育局(汇总) 教育支出 | F8: =F9 -> 121286 | G8: =G9 -> 95452.03 | H8: =H9 -> 64447.87 | I8: =I9 -> 15336.17 | J8: =J9 -> 15667.99 | K8: =K9 -> 25833.97 | L8: =L9 -> 8358.14 | M8: =M9 -> 0 | ... U8: =U9 -> 0
A9: 205 | D9: 084 | E9: 教育支出 | F9: =F10+F12+F17+F19 -> 121286 | G9: =G10+G12+G17+G19 -> 95452.03 | H9: =H10+H12+H17+H19 -> 64447.87 | I9: =I10+I12+I17+I19 -> 15336.17 | J9: =J10+J12+J17+J19 -> 15667.99 | K9: =K10+K12+K17+K19 -> 25833.97 | L9: =L10+L12+L17+L19 -> 8358.14 | M9: =M10+M12+M17+M19 -> 0 | ... U9: =U10+U12+U17+U19 -> 0
A10: 205 | B10: 01 | D10: 084 | E10: 教育管理事务 | F10: =F11 -> 2820.92 | G10: =G11 -> 2433.9 | H10: =H11 -> 1598.18 | I10: =I11 -> 520.65 | J10: =J11 -> 315.07 | K10: =K11 -> 387.02 | L10: =L11 -> 78 | M10: =M11 -> 0 | ... U10: =U11 -> 0
A11: 205 | B11: 01 | C11: 02 | D11: 084 | E11: 一般行政管理事务 | F11: =G11+K11 -> 2820.92 | G11: =H11+I11+J11 -> 2433.9 | H11: 1598.18 | I11: 520.65 | J11: 315.07 | K11: =SUM(L11:U11) -> 387.02 | L11: 78 | M11: 0 | N11: 0 | O11: 0 | P11: 0 | Q11: 150 | R11: 159.02
A12: 205 | B12: 02 | D12: 084 | E12: 普通教育 | F12: =F13+F14+F15+F16 -> 109612.43 | G12: =G13+G14+G15+G16 -> 85404.3 | H12: =H13+H14+H15+H16 -> 57765.38 | I12: =I13+I14+I15+I16 -> 13450.23 | J12: =J13+J14+J15+J16 -> 14188.69 | K12: =SUM(L12:U12) -> 24208.13 | L12: =L13+L14+L15+L16 -> 7986.09 | M12: =M13+M14+M15+M16 -> 0 | N12: =N13+N14+N15+N16 -> 0 | O12: =O13+O14+O15+O16 -> 0 | P12: =P13+P14+P15+P16 -> 0 | Q12: =Q13+Q14+Q15+Q16 -> 3779.33 | R12: =R13+R14+R15+R16 -> 12442.71 | S12: =S13+S14+S15+S16 -> 0 | ... U12: =U13+U14+U15+U16 -> 0
A13: 205 | B13: 02 | C13: 01 | D13: 084 | E13: 学前教育 | F13: =G13+K13 -> 7982.33 | G13: =H13+I13+J13 -> 3940.62 | H13: 2712.38 | I13: 525.56 | J13: 702.68 | K13: =SUM(L13:U13) -> 4041.71 | L13: 1529.35 | M13: 0 | N13: 0 | O13: 0 | P13: 0 | Q13: 144.97 | R13: 2367.39
A14: 205 | B14: 02 | C14: 02 | D14: 084 | E14: 小学教育 | F14: =G14+K14 -> 14489.8 | G14: =H14+I14+J14 -> 9487.39 | H14: 6313.9 | I14: 1733.12 | J14: 1440.37 | K14: =SUM(L14:U14) -> 5002.41 | L14: 1657.71 | M14: 0 | N14: 0 | O14: 0 | P14: 0 | Q14: 504.93 | R14: 2839.77
A15: 205 | B15: 02 | C15: 03 | D15: 084 | E15: 初中教育 | F15: =G15+K15 -> 45734.62 | G15: =H15+I15+J15 -> 37379.26 | H15: 25425.02 | I15: 5585.08 | J15: 6369.16 | K15: =SUM(L15:U15) -> 8355.36 | L15: 2564.19 | M15: 0 | N15: 0 | O15: 0 | P15: 0 | Q15: 1649.7 | R15: 4141.47
A16: 205 | B16: 02 | C16: 04 | D16: 084 | E16: 高中教育 | F16: =G16+K16 -> 41405.68 | G16: =H16+I16+J16 -> 34597.03 | H16: 23314.08 | I16: 5606.47 | J16: 5676.48 | K16: =SUM(L16:U16) -> 6808.65 | L16: 2234.84 | M16: 0 | N16: 0 | O16: 0 | P16: 0 | Q16: 1479.73 | R16: 3094.08
A17: 205 | B17: 03 | D17: 084 | E17: 职业教育 | F17: =F18 -> 7456.88 | G17: =G18 -> 6482.38 | H17: =H18 -> 4337.22 | I17: =I18 -> 1156.96 | J17: =J18 -> 988.2 | K17: =SUM(L17:U17) -> 974.5 | L17: =L18 -> 232 | M17: =M18 -> 0 | N17: =N18 -> 0 | O17: =O18 -> 0 | P17: =P18 -> 0 | Q17: =Q18 -> 188.5 | R17: =R18 -> 554 | S17: =S18 -> 0 | ... U17: =U18 -> 0
A18: 205 | B18: 03 | C18: 02 | D18: 084 | E18: 中职业教育 | F18: =G18+K18 -> 7456.88 | G18: =SUM(H18:J18) -> 6482.38 | H18: 4337.22 | I18: 1156.96 | J18: 988.2 | K18: =SUM(L18:U18) -> 974.5 | L18: 232 | Q18: 188.5 | R18: 554
A19: 205 | B19: 07 | D19: 084 | E19: 特殊教育 | F19: =G19+K19 -> 1395.77 | G19: =G20 -> 1131.45 | H19: =H20 -> 747.09 | I19: =I20 -> 208.33 | J19: =J20 -> 176.03 | K19: =SUM(L19:U19) -> 264.32 | L19: =L20 -> 62.05 | M19: =M20 -> 0 | N19: =N20 -> 0 | O19: =O20 -> 0 | P19: =P20 -> 0 | Q19: =Q20 -> 77.25 | R19: =R20 -> 125.02 | S19: =S20 -> 0
A20: 205 | B20: 07 | C20: 01 | D20: 084 | E20: 特殊学校教育 | F20: =G20+K20 -> 1395.77 | G20: =H20+I20+J20 -> 1131.45 | H20: 747.09 | I20: 208.33 | J20: 176.03 | K20: =SUM(L20:U20) -> 264.32 | L20: 62.05 | Q20: 77.25 | R20: 125.02
H22: =H11/$F$11 -> 0.56654567 | I22: =I11/$F$11 -> 0.18456745 | J22: =J11/$F$11 -> 0.11169051 | L22: =L11/$F$11 -> 0.027650554 | M22: =M11/$F$11 -> 0 | N22: =N11/$F$11 -> 0 | O22: =O11/$F$11 -> 0 | P22: =P11/$F$11 -> 0 | Q22: =Q11/$F$11 -> 0.053174142 | R22: =R11/$F$11 -> 0.05637168
A23: 205 | C23: 084 | D23: 教育支出 | E23: =F23+#REF! -> #REF! | F23: =SUM(F24:F27) -> 88745 | G23: =SUM(G24:G27) -> 60809.039 | H23: =SUM(H24:H27) -> 11832.641 | I23: =SUM(I24:I27) -> 16103.32 | J23: =SUM(J24:J27) -> 519.13088 | K23: =SUM(K24:K27) -> 0 | L23: =SUM(L24:L27) -> 0 | M23: =SUM(M24:M27) -> 0 | ... P23: =SUM(P24:P27) -> 1207.04 | R23: =SUM(R24:R27) -> 0 | S23: =SUM(S24:S27) -> 0 | T23: =SUM(T24:T27) -> 6176.1504 | U23: =SUM(U24:U27) -> 1207.04
A24: 205 | B24: 01 | C24: 084 | D24: 教育管理事务 | E24: =F24+#REF! -> #REF! | F24: =SUM(G24:I24) -> 1774.9006 | G24: 1216.1812 | H24: 236.65291 | I24: 322.06651 | J24: 45 | K24: 0 | L24: 0 | M24: 0 | N24: 0 | O24: 50 | P24: 74.02 | R24: 0 | S24: 0 | T24: 50 | U24: 74.02
A25: 205 | B25: 02 | C25: 084 | D25: 普通教育 | E25: =F25+#REF! -> #REF! | F25: =SUM(G25:I25) -> 80757.947 | G25: 55336.224 | H25: 10767.703 | I25: 14654.02 | J25: 380.08088 | O25: 6020.6504 | P25: 850 | T25: 6020.6504 | U25: 850
A26: 205 | B26: 03 | C26: 084 | D26: 职业教育 | E26: =F26+#REF! -> #REF! | F26: =SUM(G26:I26) -> 5324.7019 | G26: 3648.5437 | H26: 709.95872 | I26: 966.19954 | J26: 82 | O26: 60.5 | P26: 260 | T26: 60.5 | U26: 260
A27: 205 | B27: 07 | C27: 084 | D27: 特殊教育 | E27: =F27+#REF! -> #REF! | F27: =SUM(G27:I27) -> 887.45032 | G27: 608.09061 | H27: 118.32645 | I27: 161.03326 | J27: 12.05 | O27: 45 | P27: 23.02 | T27: 45 | U27: 23.02
C29: 教育管理事务 | D29: 0.020000007
A30: 02 | B30: 084 | C30: 一般行政管理事务
C31: 普通教育 | D31: 0.90999997 | E31: =E23*D31 -> #REF!
A32: 01 | B32: 084 | C32: 学前教育 | D32: 0.076923108 | E32: =$E$43*D32 -> #REF! | G32: =$E$43*D32 -> #REF! | H32: =$G$32*H22 -> #REF! | I32: =$G$32*I22 -> #REF! | J32: =$G$32*J22 -> #REF! | K32: =$G$32*K22 -> #REF! | L32: =$G$32*L22 -> #REF! | M32: =$G$32*M22 -> #REF! | N32: =$G$32*N22 -> #REF! | O32: =$G$32*O22 -> #REF! | ... V32: =$G$32*V22 -> #REF!
A33: 02 | B33: 084 | C33: 小学教育 | D33: 0.47252746 | E33: =$E$43*D33 -> #REF! | G33: =$E$43*D33 -> #REF! | H33: =$G$33*H22 -> #REF! | I33: =$G$33*I22 -> #REF! | J33: =$G$33*J22 -> #REF! | K33: =$G$33*K22 -> #REF! | L33: =$G$33*L22 -> #REF! | M33: =$G$33*M22 -> #REF! | N33: =$G$33*N22 -> #REF! | O33: =$G$33*O22 -> #REF! | ... R33: =$G$33*R22 -> #REF! | T33: =$E$33*T22 -> #REF! | U33: =$E$33*U22 -> #REF!
A34: 03 | B34: 084 | C34: 初中教育 | D34: 0.2857142 | E34: =$E$43*D34 -> #REF! | G34: =$E$43*D34 -> #REF! | H34: =$G$34*H22 -> #REF! | I34: =$G$34*I22 -> #REF! | J34: =$G$34*J22 -> #REF! | K34: =$G$34*K22 -> #REF! | L34: =$G$34*L22 -> #REF! | M34: =$G$34*M22 -> #REF! | N34: =$G$34*N22 -> #REF! | O34: =$G$34*O22 -> #REF! | ... R34: =$G$34*R22 -> #REF!
A35: 04 | B35: 084 | C35: 高中教育 | D35: 0.16483523 | E35: =$E$43*D35 -> #REF! | G35: =$E$43*D35 -> #REF! | H35: =$G$35*H22 -> #REF! | I35: =$G$35*I22 -> #REF! | J35: =$G$35*J22 -> #REF! | K35: =$G$35*K22 -> #REF! | L35: =$G$35*L22 -> #REF! | M35: =$G$35*M22 -> #REF! | N35: =$G$35*N22 -> #REF! | O35: =$G$35*O22 -> #REF! | ... R35: =$G$35*R22 -> #REF!
B36: 084 | C36: 职业教育 | D36: 0.060000022
A37: 02 | B37: 084 | C37: 中职业教育
B38: 084 | C38: 特殊教育 | D38: 0.010000004
A39: 01 | B39: 084 | C39: 特殊学校教育
A42: 205 | B42: 01 | C42: 084 | D42: 教育管理事务 | E42: =F42+#REF! -> #REF! | F42: =SUM(G42:I42) -> 1774.9006 | G42: 1216.1812 | H42: 236.65291 | I42: 322.06651 | J42: 45 | K42: 0 | L42: 0 | M42: 0 | N42: 0 | O42: 50 | P42: 74.02
A43: 205 | B43: 02 | C43: 084 | D43: 普通教育 | E43: =F43+#REF! -> #REF! | F43: =SUM(G43:I43) -> 80757.947 | G43: 55336.224 | H43: 10767.703 | I43: 14654.02 | J43: 380.08088 | O43: 6020.6504 | P43: 850
A44: 205 | B44: 03 | C44: 084 | D44: 职业教育 | E44: =F44+#REF! -> #REF! | F44: =SUM(G44:I44) -> 5324.7019 | G44: 3648.5437 | H44: 709.95872 | I44: 966.19954 | J44: 82 | O44: 60.5 | P44: 260
...

Sheet 5、支出分类(政府预算)
T1: 表-05
A2: 部门支出总表(按政府预算经济分类)
A3: 单位：岳阳县教育体育局(汇总) | T3: 单位：万元
A4: 功能科目 | D4: 单位编码 | E4: 功能科目名称 | F4: 总 计 | G4: 机关工资福利支出 | H4: 机关商品和服务支出 | I4: 机关资本性支出(一) | J4: 机关资本性支出(二) | K4: 对事业单位经常性补助 | L4: 对事业单位资本性补助 | M4: 对企业补助 | N4: 对企业资本性支出 | O4: 对个人和家庭的补助 | P4: 对社会保障基金补助 | Q4: 债务利息及费用支出 | R4: 债务还本支出 | S4: 转移性支出 | T4: 预备费及预留 | U4: 其他支出
A5: 类 | B5: 款 | C5: 项
A7: 合计 | D7: 084 | E7: 岳阳县教育体育局(汇总) | F7: =F8 -> 121286 | G7: =G8 -> 1288.9574 | H7: =H8 -> 306.7234 | I7: =I8 -> 41.9508 | J7: =J8 -> 0 | K7: =K8 -> 117656.26 | L7: =L8 -> 0 | M7: =M8 -> 0 | ... U7: =U8 -> 1992.1125
A8: 205 | D8: 084 | E8: 教育支出 | F8: =F9+F11+F16+F18 -> 121286 | G8: =G9+G11+G16+G18 -> 1288.9574 | H8: =H9+H11+H16+H18 -> 306.7234 | I8: =I9+I11+I16+I18 -> 41.9508 | J8: =J9+J11+J16+J18 -> 0 | K8: =K9+K11+K16+K18 -> 117656.26 | L8: =L9+L11+L16+L18 -> 0 | M8: =M9+M11+M16+M18 -> 0 | N8: =N9+N11+N16+N18 -> 0 | O8: =O9+O11+O16+O19 -> 0 | P8: =P9+P11+P16+P18 -> 0 | Q8: =Q9+Q11+Q16+Q18 -> 0 | R8: =R9+R11+R16+R18 -> 0 | S8: =S9+S11+S16+S18 -> 0 | T8: =T9+T11+T16+T18 -> 0 | U8: =U9+U11+U16+U18 -> 1992.1125
A9: 205 | B9: 01 | D9: 084 | E9: 教育管理事务 | F9: =F10 -> 2820.92 | G9: =G10 -> 31.9636 | H9: =H10 -> 10.413 | I9: =I10 -> 1.5 | J9: =J10 -> 0 | K9: =K10 -> 2753.1904 | L9: =L10 -> 0 | M9: =M10 -> 0 | ... U9: =U10 -> 23.853 | V9: 2820.92
A10: 205 | B10: 01 | C10: 02 | D10: 084 | E10: 一般行政管理事务 | F10: =SUM(G10:U10) -> 2820.92 | G10: ='4、部门支出总表（分类）'!H11*0.02 -> 31.9636 | H10: ='4、部门支出总表（分类）'!I11*0.02 -> 10.413 | I10: ='4、部门支出总表（分类）'!Q11*0.01 -> 1.5 | K10: =V9-SUM(G10:I10)-U10 -> 2753.1904 | U10: ='4、部门支出总表（分类）'!R11*0.15 -> 23.853 | V10: 109612.43
A11: 205 | B11: 02 | D11: 084 | E11: 普通教育 | F11: =F12+F13+F14+F15 -> 109612.43 | G11: ='4、部门支出总表（分类）'!H12*0.02 -> 1155.3076 | H11: ='4、部门支出总表（分类）'!I12*0.02 -> 269.0046 | I11: ='4、部门支出总表（分类）'!Q12*0.01 -> 37.7933 | J11: =J12+J13+J14+J15 -> 0 | K11: =V10-SUM(G11:I11)-U11 -> 106283.92 | L11: =L12+L13+L14+L15 -> 0 | M11: =M12+M13+M14+M15 -> 0 | N11: =N12+N13+N14+N15 -> 0 | O11: =O12+O13+O14+O15 -> 0 | P11: =P12+P13+P14+P15 -> 0 | Q11: =Q12+Q13+Q14+Q15 -> 0 | R11: =R12+R13+R14+R15 -> 0 | S11: =S12+S13+S14+S15 -> 0 | T11: =T12+T13+T14+T15 -> 0 | U11: ='4、部门支出总表（分类）'!R12*0.15 -> 1866.4065 | V11: 7982.33
A12: 205 | B12: 02 | C12: 01 | D12: 084 | E12: 学前教育 | F12: =SUM(G12:U12) -> 7982.33 | G12: ='4、部门支出总表（分类）'!H13*0.02 -> 54.2476 | H12: ='4、部门支出总表（分类）'!I13*0.02 -> 10.5112 | I12: ='4、部门支出总表（分类）'!Q13*0.01 -> 1.4497 | K12: =V11-SUM(G12:I12)-U12 -> 7561.013 | U12: ='4、部门支出总表（分类）'!R13*0.15 -> 355.1085 | V12: 14489.8
A13: 205 | B13: 02 | C13: 02 | D13: 084 | E13: 小学教育 | F13: =SUM(G13:U13) -> 14489.8 | G13: ='4、部门支出总表（分类）'!H14*0.02 -> 126.278 | H13: ='4、部门支出总表（分类）'!I14*0.02 -> 34.6624 | I13: ='4、部门支出总表（分类）'!Q14*0.01 -> 5.0493 | K13: =V12-SUM(G13:I13)-U13 -> 13897.845 | U13: ='4、部门支出总表（分类）'!R14*0.15 -> 425.9655 | V13: 45734.62
A14: 205 | B14: 02 | C14: 03 | D14: 084 | E14: 初中教育 | F14: =SUM(G14:U14) -> 45734.62 | G14: ='4、部门支出总表（分类）'!H15*0.02 -> 508.5004 | H14: ='4、部门支出总表（分类）'!I15*0.02 -> 111.7016 | I14: ='4、部门支出总表（分类）'!Q15*0.01 -> 16.497 | K14: =V13-SUM(G14:I14)-U14 -> 44476.7 | U14: ='4、部门支出总表（分类）'!R15*0.15 -> 621.2205 | V14: 41405.68
A15: 205 | B15: 02 | C15: 04 | D15: 084 | E15: 高中教育 | F15: =SUM(G15:U15) -> 41405.68 | G15: ='4、部门支出总表（分类）'!H16*0.02 -> 466.2816 | H15: ='4、部门支出总表（分类）'!I16*0.02 -> 112.1294 | I15: ='4、部门支出总表（分类）'!Q16*0.01 -> 14.7973 | K15: =V14-SUM(G15:I15)-U15 -> 40348.36 | U15: ='4、部门支出总表（分类）'!R16*0.15 -> 464.112 | V15: 7456.88
A16: 205 | B16: 03 | D16: 084 | E16: 职业教育 | F16: =F17 -> 7456.88 | G16: ='4、部门支出总表（分类）'!H17*0.02 -> 86.7444 | H16: ='4、部门支出总表（分类）'!I17*0.02 -> 23.1392 | I16: ='4、部门支出总表（分类）'!Q17*0.01 -> 1.885 | J16: =J17 -> 0 | K16: =V15-SUM(G16:I16)-U16 -> 7262.0114 | L16: =L17 -> 0 | M16: =M17 -> 0 | N16: =N17 -> 0 | O16: =O17 -> 0 | P16: =P17 -> 0 | Q16: =Q17 -> 0 | R16: =R17 -> 0 | S16: =S17 -> 0 | T16: =T17 -> 0 | U16: ='4、部门支出总表（分类）'!R17*0.15 -> 83.1 | V16: 7456.88
A17: 205 | B17: 03 | C17: 02 | D17: 084 | E17: 中职业教育 | F17: =SUM(G17:U17) -> 7456.88 | G17: ='4、部门支出总表（分类）'!H18*0.02 -> 86.7444 | H17: ='4、部门支出总表（分类）'!I18*0.02 -> 23.1392 | I17: ='4、部门支出总表（分类）'!Q18*0.01 -> 1.885 | K17: =V16-SUM(G17:I17)-U17 -> 7262.0114 | U17: ='4、部门支出总表（分类）'!R18*0.15 -> 83.1 | V17: 1395.77
A18: 205 | B18: 07 | D18: 084 | E18: 特殊教育 | F18: =F19 -> 1395.77 | G18: ='4、部门支出总表（分类）'!H19*0.02 -> 14.9418 | H18: ='4、部门支出总表（分类）'!I19*0.02 -> 4.1666 | I18: ='4、部门支出总表（分类）'!Q19*0.01 -> 0.7725 | J18: =J19 -> 0 | K18: =V17-SUM(G18:I18)-U18 -> 1357.1361 | L18: =L19 -> 0 | M18: =M19 -> 0 | N18: =N19 -> 0 | O18: =O19 -> 0 | P18: =P19 -> 0 | Q18: =Q19 -> 0 | R18: =R19 -> 0 | S18: =S19 -> 0 | T18: =T19 -> 0 | U18: ='4、部门支出总表（分类）'!R19*0.15 -> 18.753 | V18: 1395.77
A19: 205 | B19: 07 | C19: 01 | D19: 084 | E19: 特殊学校教育 | F19: =SUM(G19:U19) -> 1395.77 | G19: ='4、部门支出总表（分类）'!H20*0.02 -> 14.9418 | H19: ='4、部门支出总表（分类）'!I20*0.02 -> 4.1666 | I19: ='4、部门支出总表（分类）'!Q20*0.01 -> 0.7725 | K19: =V18-SUM(G19:I19)-U19 -> 1357.1361 | U19: ='4、部门支出总表（分类）'!R20*0.15 -> 18.753
K24: 88008.678
K25: 6769.901
K26: 41586.517
K27: 25145.329
K28: 14506.931
K29: 5727.2024
K30: 5727.2024
K31: 967.51707
K32: 967.51707

Sheet 6、基本-工资福利
Z1: 表-06
A2: 工资福利支出预算表
A3: 单位：岳阳县教育体育局(汇总) | Y3: 单位：万元
A4: 科目编码 | D4: 单位代码 | E4: 单位名称（功能科目） | F4: 总 计 | G4: 工资性支出 | O4: 社会保障缴费 | W4: 住房公积金 | X4: 其他工资福利支出
A5: 类 | B5: 款 | C5: 项 | G5: 合计 | H5: 基本工资 | I5: 基本工资提标 | J5: 规范性公务员津补贴 | K5: 特殊岗位津贴 | L5: 津贴补贴提标 | M5: 绩效工资 | N5: 绩效工资提标 | O5: 合计 | P5: 机关事业单位基本养老保险缴费 | Q5: 职工基本医疗保险缴费 | R5: 公务员医疗补助缴费 | S5: 生育保险 | T5: 工伤保险 | U5: 残疾人保障金 | V5: 医疗费 | X5: 合计 | Y5: 定额补助 | Z5: 工勤人员经费 | AA5: 其他工资福利支出
A7: ** | B7: ** | C7: ** | D7: ** | E7: ** | F7: 1 | G7: 2 | H7: 3 | I7: 4 | J7: 5 | K7: 6 | L7: 7 | M7: 8 | N7: 9 | O7: 10 | P7: 11 | Q7: 12 | R7: 13 | S7: 14 | T7: 15 | U7: 16 | V7: 17 | W7: 18 | X7: 19 | Y7: 20 | Z7: 21 | AA7: 22
A8: 合计 | D8: 084 | E8: 岳阳县教育体育局(汇总) 教育支出 | F8: =G8+O8+W8+X8 -> 64447.867 | G8: =H8+L8+M8 -> 38469.454 | H8: =H9 -> 21959.153 | I8: =I9 -> 0 | J8: =J9 -> 0 | K8: =K9 -> 0 | L8: =L9 -> 4207.248 | M8: =M9 -> 12303.053 | N8: =N9 -> 0 | O8: =P8+Q8+R8+S8+T8 -> 11157.168 | P8: =P9 -> 5745.13 | Q8: =Q9 -> 3742.1361 | R8: =R9 -> 642.40495 | S8: =S9 -> 646.31495 | T8: =T9 -> 381.18186 | U8: =U9 -> 0 | V8: =V9 -> 0 | W8: =W9 -> 3208.399 | X8: =AA8 -> 11612.846 | Y8: =Y9 -> 0 | Z8: =Z9 -> 0 | AA8: =AA9 -> 11612.846
A9: 205 | D9: 084 | E9: 教育支出 | F9: =F10+F12+F17+F19 -> 64447.867 | G9: =H9+L9+M9 -> 38469.454 | H9: =H10+H12+H17+H19 -> 21959.153 | I9: =I10+I12+I17+I19 -> 0 | J9: =J10+J12+J17+J19 -> 0 | K9: =K10+K12+K17+K19 -> 0 | L9: =L10+L12+L17+L19 -> 4207.248 | M9: =M10+M12+M17+M19 -> 12303.053 | N9: =N10+N12+N17+N19 -> 0 | O9: =P9+Q9+R9+S9+T9 -> 11157.168 | P9: =P10+P12+P17+P19 -> 5745.13 | Q9: =Q10+Q12+Q17+Q19 -> 3742.1361 | R9: =R10+R12+R17+R19 -> 642.40495 | S9: =S10+S12+S17+S19 -> 646.31495 | T9: =T10+T12+T17+T19 -> 381.18186 | U9: =U10+U12+U17+U19 -> 0 | V9: =V10+V12+V17+V19 -> 0 | W9: =W10+W12+W17+W19 -> 3208.399 | X9: =AA9 -> 11612.846 | Y9: =Y10+Y12+Y17+Y19 -> 0 | Z9: =Z10+Z12+Z17+Z19 -> 0 | AA9: =AA10+AA12+AA17+AA19 -> 11612.846
A10: 205 | B10: 01 | D10: 084 | E10: 教育管理事务 | F10: =F11 -> 584.30815 | G10: =G11 -> 387.18892 | H10: =H11 -> 237.72638 | I10: =I11 -> 0 | J10: =J11 -> 0 | K10: =K11 -> 0 | L10: =L11 -> 37.142546 | M10: =M11 -> 112.32 | ... AA10: =AA11 -> 65.25
A11: 205 | B11: 01 | C11: 02 | D11: 084 | E11: 一般行政管理事务 | F11: =G11+O11+W11+X11 -> 584.30815 | G11: =H11+L11+M11 -> 387.18892 | H11: 237.72638 | I11: 0 | J11: 0 | K11: 0 | L11: 37.142546 | M11: 112.32 | N11: 0 | O11: =P11+Q11+R11+S11+T11 -> 102.89022 | P11: 53.14 | Q11: 33.810217 | R11: 5.74 | S11: 5.68 | T11: 4.52 | U11: 0 | V11: 0 | W11: 28.979008 | X11: =AA11 -> 65.25 | Y11: 0 | Z11: 0 | AA11: 65.25 | AB11: 0 | AC11: 65.25
A12: 205 | B12: 02 | D12: 084 | E12: 普通教育 | F12: =F13+F14+F15+F16 -> 55050.84 | G12: =G13+G14+G15+G16 -> 32080.986 | H12: =H13+H14+H15+H16 -> 18036.477 | I12: =I13+I14+I15+I16 -> 0 | J12: =J13+J14+J15+J16 -> 0 | K12: =K13+K14+K15+K16 -> 0 | L12: =L13+L14+L15+L16 -> 3577.038 | M12: =M13+M14+M15+M16 -> 10467.471 | ... AA12: =AA13+AA14+AA15+AA16 -> 10699.296 | AC12: 5959.6063
A13: 205 | B13: 02 | C13: 01 | D13: 084 | E13: 学前教育 | F13: =G13+O13+W13+X13 -> 5957.92 | G13: =H13+L13+M13 -> 2798.9954 | H13: 1718.1096 | I13: 0 | J13: 0 | K13: 0 | L13: 275.46457 | M13: 805.42118 | N13: 0 | O13: =P13+Q13+R13+S13+T13 -> 732.51468 | P13: 378.52 | Q13: 244.88282 | R13: 42.54 | S13: 42.32 | T13: 24.251864 | U13: 0 | V13: 0 | W13: 211.52 | X13: =AA13 -> 2214.89 | Y13: 0 | Z13: 0 | AA13: 2214.89 | AB13: 0 | AC13: 475.2
A14: 205 | B14: 02 | C14: 02 | D14: 084 | E14: 小学教育 | F14: =G14+O14+W14+X14 -> 21491.606 | G14: =H14+L14+M14 -> 12892.454 | H14: 6251.73 | I14: 0 | J14: 0 | K14: 0 | L14: 1688.1388 | M14: 4952.5852 | N14: 0 | O14: =P14+Q14+R14+S14+T14 -> 4495.0515 | P14: 2322.84 | Q14: 1504.2795 | R14: 257.86601 | S14: 257.86601 | T14: 152.2 | U14: 0 | V14: 0 | W14: 1295.4 | X14: =AA14 -> 2808.7 | Y14: 0 | Z14: 0 | AA14: 2808.7 | AB14: 0 | AC14: 2808.7
A15: 205 | B15: 02 | C15: 03 | D15: 084 | E15: 初中教育 | F15: =G15+O15+W15+X15 -> 16619.21 | G15: =H15+L15+M15 -> 10384.118 | H15: 6376.4027 | I15: 0 | J15: 0 | K15: 0 | L15: 1022.1534 | M15: 2985.5623 | N15: 0 | O15: =P15+Q15+R15+S15+T15 -> 2733.672 | P15: 1412.65 | Q15: 909.56411 | R15: 155.91894 | S15: 162.91894 | T15: 92.62 | U15: 0 | V15: 0 | W15: 785.2 | X15: =AA15 -> 2716.22 | Y15: 0 | Z15: 0 | AA15: 2716.22 | AB15: 0 | AC15: 1716.22
A16: 205 | B16: 02 | C16: 04 | D16: 084 | E16: 高中教育 | F16: =G16+O16+W16+X16 -> 10982.104 | G16: =H16+L16+M16 -> 6005.4186 | H16: 3690.2349 | I16: 0 | J16: 0 | K16: 0 | L16: 591.28122 | M16: 1723.9025 | N16: 0 | O16: =P16+Q16+R16+S16+T16 -> 1564.9989 | P16: 811.21 | Q16: 524.74889 | R16: 87.54 | S16: 87.65 | T16: 53.85 | U16: 0 | V16: 0 | W16: 452.2 | X16: =AA16 -> 2959.4863 | Y16: 0 | Z16: 0 | AA16: 2959.4863 | AB16: 0 | AC16: 959.48627
A17: 205 | B17: 03 | D17: 084 | E17: 职业教育 | F17: =F18 -> 7545.7327 | G17: =G18 -> 5148.0493 | H17: =H18 -> 3161.5719 | I17: =I18 -> 0 | J17: =J18 -> 0 | K17: =K18 -> 0 | L17: =L18 -> 507.82755 | M17: =M18 -> 1478.6498 | ... AA17: =AA18 -> 716.47 | AB17: 0 | AC17: 716.47
A18: 205 | B18: 03 | C18: 02 | D18: 084 | E18: 中职业教育 | F18: =G18+O18+W18+X18 -> 7545.7327 | G18: =H18+L18+M18 -> 5148.0493 | H18: 3161.5719 | I18: 0 | J18: 0 | K18: 0 | L18: 507.82755 | M18: 1478.6498 | N18: 0 | O18: 1308.6134 | P18: 658.23 | Q18: 449.57338 | R18: 79.56 | S18: 75.63 | T18: 45.62 | U18: 0 | V18: 0 | W18: 372.6 | X18: =AA18 -> 716.47 | Y18: 0 | Z18: 0 | AA18: 716.47 | AB18: 0 | AC18: 716.47
A19: 205 | B19: 07 | D19: 084 | E19: 特殊教育 | F19: =F20 -> 1266.9868 | G19: =G20 -> 853.22969 | H19: =H20 -> 523.37768 | I19: =I20 -> 0 | J19: =J20 -> 0 | K19: =K20 -> 0 | L19: =L20 -> 85.239979 | M19: =M20 -> 244.61203 | ... AA19: =AA20 -> 131.83 | AB19: 0 | AC19: 131.83
A20: 205 | B20: 07 | C20: 01 | D20: 084 | E20: 特殊学校教育 | F20: =G20+O20+W20+X20 -> 1266.9868 | G20: =H20+L20+M20 -> 853.22969 | H20: 523.37768 | I20: 0 | J20: 0 | K20: 0 | L20: 85.239979 | M20: 244.61203 | N20: 0 | O20: 219.42715 | P20: 108.54 | Q20: 75.277146 | R20: 13.24 | S20: 14.25 | T20: 8.12 | U20: 0 | V20: 0 | W20: 62.5 | X20: =AA20 -> 131.83 | Y20: 0 | Z20: 0 | AA20: 131.83 | AB20: 0 | AC20: 131.83
F21: =G21+O21+W21+X21 -> 0
E22: 61940.972 | F22: =G22+O22+W22+X22 -> 0.049782858 | H22: =H8/$F$8 -> 0.34072738 | I22: =I8/$F$8 -> 0 | J22: =J8/$F$8 -> 0 | K22: =K8/$F$8 -> 0 | L22: =L8/$F$8 -> 0.065281416 | M22: =M8/$F$8 -> 0.1908993 | N22: =N8/$F$8 -> 0 | P22: =P8/$F$8 -> 0.089143834 | Q22: =Q8/$F$8 -> 0.058064545 | R22: =R8/$F$8 -> 0.0099678232 | S22: =S8/$F$8 -> 0.010028492 | T22: =T8/$F$8 -> 0.0059145768 | U22: =U8/$F$8 -> 0 | V22: =V8/$F$8 -> 0 | W22: =W8/$F$8 -> 0.049782858 | Y22: =Y8/$F$8 -> 0 | Z22: =Z8/$F$8 -> 0 | AA22: =AA8/$F$8 -> 0.18018977
F23: =G23+O23+W23+X23 -> 3083.5986 | H23: =$E$22*H22 -> 21104.985 | I23: =$E$22*I22 -> 0 | J23: =$E$22*J22 -> 0 | K23: =$E$22*K22 -> 0 | L23: =$E$22*L22 -> 4043.5943 | M23: =$E$22*M22 -> 11824.488 | N23: =$E$22*N22 -> 0 | O23: =$E$22*O22 -> 0 | ... AA23: =$E$22*AA22 -> 11161.129
A24: 205 | B24: 01 | C24: 02 | D24: 084 | E24: 一般行政管理事务 | F24: =G24+O24+W24+X24 -> 584.30815 | G24: =$E$22*F24 -> 565.4644 | H24: =$G$24*H22 -> 231.96404 | I24: =$G$24*I22 -> 0 | J24: =$G$24*J22 -> 0 | K24: =$G$24*K22 -> 0 | L24: =$G$24*L22 -> 37.169669 | M24: =$G$24*M22 -> 108.69347 | N24: =$G$24*N22 -> 0 | O24: =$G$24*O22 -> 0 | ... AA24: =$G$24*AA22 -> 60.722101
A25: 205 | B25: 02 | D25: 084 | E25: 普通教育 | F25: =G25+O25+W25+X25 -> 584.30815 | G25: =$E$22*F25 -> 0
A26: 205 | B26: 02 | C26: 01 | D26: 084 | E26: 学前教育 | F26: =G26+O26+W26+X26 -> 584.30815 | G26: =$E$22*F26 -> 4082.1935 | H26: =$G$26*H22 -> 1674.5919 | I26: =$G$26*I22 -> 0 | J26: =$G$26*J22 -> 0 | K26: =$G$26*K22 -> 0 | L26: =$G$26*L22 -> 268.33481 | M26: =$G$26*M22 -> 784.67856 | N26: =$G$26*N22 -> 0 | O26: =$G$26*O22 -> 0 | ... AA26: =$G$26*AA22 -> 438.36423
A27: 205 | B27: 02 | C27: 02 | D27: 084 | E27: 小学教育 | F27: =G27+O27+W27+X27 -> 584.30815 | G27: =$E$22*F27 -> 24956.872 | H27: =$G$27*H22 -> 10237.774 | I27: =$G$27*I22 -> 0 | J27: =$G$27*J22 -> 0 | K27: =$G$27*K22 -> 0 | L27: =$G$27*L22 -> 1640.49 | M27: =$G$27*M22 -> 4797.2059 | N27: =$G$27*N22 -> 0 | O27: =$G$27*O22 -> 0 | ... AA27: =$G$27*AA22 -> 2679.9808
A28: 205 | B28: 02 | C28: 03 | D28: 084 | E28: 初中教育 | F28: =G28+O28+W28+X28 -> 584.30815 | G28: =$E$22*F28 -> 15115.496 | H28: =$G$28*H22 -> 6200.6582 | I28: =$G$28*I22 -> 0 | J28: =$G$28*J22 -> 0 | K28: =$G$28*K22 -> 0 | L28: =$G$28*L22 -> 993.58683 | M28: =$G$28*M22 -> 2905.4981 | N28: =$G$28*N22 -> 0 | O28: =$G$28*O22 -> 0 | ... AA28: =$G$28*AA22 -> 1623.1697
A29: 205 | B29: 02 | C29: 04 | D29: 084 | E29: 高中教育 | F29: =G29+O29+W29+X29 -> 584.30815 | G29: =$E$22*F29 -> 8692.4338 | H29: =$G$29*H22 -> 3565.7984 | I29: =$G$29*I22 -> 0 | J29: =$G$29*J22 -> 0 | K29: =$G$29*K22 -> 0 | L29: =$G$29*L22 -> 571.37972 | M29: =$G$29*M22 -> 1670.8582 | N29: =$G$29*N22 -> 0 | O29: =$G$29*O22 -> 0 | ... AA29: =$G$29*AA22 -> 933.4325
A30: 205 | B30: 03 | D30: 084 | E30: 职业教育 | F30: =G30+O30+W30+X30 -> 584.30815 | G30: =$E$22*F30 -> 0
A31: 205 | B31: 03 | C31: 02 | D31: 084 | E31: 中职业教育 | F31: =G31+O31+W31+X31 -> 584.30815 | G31: =$E$22*F31 -> 7302.3852 | H31: =$G$31*H22 -> 2995.5746 | I31: =$G$31*I22 -> 0 | J31: =$G$31*J22 -> 0 | K31: =$G$31*K22 -> 0 | L31: =$G$31*L22 -> 480.00766 | M31: =$G$31*M22 -> 1403.6633 | N31: =$G$31*N22 -> 0 | O31: =$G$31*O22 -> 0 | ... AA31: =$G$31*AA22 -> 784.16285
A32: 205 | B32: 07 | D32: 084 | E32: 特殊教育 | F32: =G32+O32+W32+X32 -> 584.30815 | G32: =$E$22*F32 -> 1226.1269 | H32: =$G$32*H22 -> 502.98012 | I32: =$G$32*I22 -> 0 | J32: =$G$32*J22 -> 0 | K32: =$G$32*K22 -> 0 | L32: =$G$32*L22 -> 80.596995 | M32: =$G$32*M22 -> 235.68592 | N32: =$G$32*N22 -> 0 | O32: =$G$32*O22 -> 0 | ... AA32: =$G$32*AA22 -> 131.667
F33: =G33+O33+W33+X33 -> 0
F34: =G34+O34+W34+X34 -> 0
E35: 61940.972 | F35: =G35+O35+W35+X35 -> 0.070017167 | H35: 0.40551592 | I35: 0 | J35: 0 | K35: 0 | L35: 0.06399778 | M35: 0.20398688 | N35: 0 | P35: 0.12867446 | Q35: 0.056817064 | R35: 0.00079625285 | S35: 0.0039458752 | T35: 0.0056268534 | U35: 0 | V35: 0 | W35: 0.070017167 | Y35: 0 | Z35: 0 | AA35: 0.060621749
F36: =G36+O36+W36+X36 -> 4336.9314 | H36: 25118.05 | I36: 0 | J36: 0 | K36: 0 | L36: 3964.0847 | M36: 12635.145 | N36: 0 | O36: 0 | P36: 7970.2211 | Q36: 3519.3042 | R36: 49.320675 | S36: 244.41134 | T36: 348.53277 | U36: 0 | V36: 0 | W36: 4336.9314 | X36: 0 | Y36: 0 | Z36: 0 | AA36: 3754.97
A37: 205 | B37: 01 | C37: 02 | D37: 084 | E37: 一般行政管理事务 | F37: =G37+O37+W37+X37 -> 1554.9113 | G37: 1453.1648 | H37: 589.28145 | I37: 0 | J37: 0 | K37: 0 | L37: 92.999319 | M37: 296.42654 | N37: 0 | O37: 0 | P37: 186.98519 | Q37: 82.564556 | R37: 1.1570866 | S37: 5.7340069 | T37: 8.1767452 | U37: 0 | V37: 0 | W37: 101.74648 | X37: 0 | Y37: 0 | Z37: 0 | AA37: 88.09339
A38: 205 | B38: 02 | D38: 084 | E38: 普通教育 | F38: =G38+O38+W38+X38 -> 0 | G38: 0
A39: 205 | B39: 02 | C39: 01 | D39: 084 | E39: 学前教育 | F39: =G39+O39+W39+X39 -> 4757.3638 | G39: 4446.063 | H39: 1802.9494 | I39: 0 | J39: 0 | K39: 0 | L39: 284.53816 | M39: 906.93851 | N39: 0 | O39: 0 | P39: 572.09476 | Q39: 252.61225 | R39: 3.5401904 | S39: 17.54361 | T39: 25.017345 | U39: 0 | V39: 0 | W39: 311.30074 | X39: 0 | Y39: 0 | Z39: 0 | AA39: 269.52812
A40: 205 | B40: 02 | C40: 02 | D40: 084 | E40: 小学教育 | F40: =G40+O40+W40+X40 -> 28000.048 | G40: 26167.849 | H40: 10611.48 | I40: 0 | J40: 0 | K40: 0 | L40: 1674.6842 | M40: 5337.8978 | N40: 0 | O40: 0 | P40: 3367.1339 | Q40: 1486.7804 | R40: 20.836224 | S40: 103.25507 | T40: 147.24265 | U40: 0 | V40: 0 | W40: 1832.1987 | X40: 0 | Y40: 0 | Z40: 0 | AA40: 1586.3408
A41: 205 | B41: 02 | C41: 03 | D41: 084 | E41: 初中教育 | F41: =G41+O41+W41+X41 -> 17022.745 | G41: 15908.852 | H41: 6451.293 | I41: 0 | J41: 0 | K41: 0 | L41: 1018.1312 | M41: 3245.1971 | N41: 0 | O41: 0 | P41: 2047.063 | Q41: 903.89429 | R41: 12.667469 | S41: 62.774346 | T41: 89.516781 | U41: 0 | V41: 0 | W41: 1113.8928 | X41: 0 | Y41: 0 | Z41: 0 | AA41: 964.42246
...

Sheet 7、工资福利(政府预算)
N1: 表-07
A2: 工资福利支出(按政府预算经济分类)
A3: 单位：岳阳县教育体育局(汇总) | M3: 单位：万元
A4: 科目编码 | D4: 单位编码 | E4: 单位名称 | F4: 合计 | G4: 机关工资福利支出 | L4: 对事业单位经常性补助
A5: 类 | B5: 款 | C5: 项 | G5: 小计 | H5: 工资奖金津补贴 | I5: 社会保障缴费 | J5: 住房公积金 | K5: 其他工资福利支出 | L5: 小计 | M5: 工资福利支出 | N5: 其他对事业单位补助
A7: 合计 | D7: 084 | E7: 岳阳县教育体育局(汇总) | F7: =F8 -> 64447.867 | G7: =G8 -> 116.12846 | H7: =H8 -> 0 | I7: =I8 -> 0 | J7: =J8 -> 0 | K7: =K8 -> 116.12846 | L7: =SUM(M7:N7) -> 0 | M7: =M8 -> 0 | N7: =N8 -> 0
A8: 205 | D8: 084 | E8: 教育支出 | F8: =F9+F11+F16+F18 -> 64447.867 | G8: =SUM(H8:K8) -> 116.12846 | K8: ='6、基本-工资福利'!AA9*0.01 -> 116.12846 | L8: =SUM(M8:N8) -> 0
A9: 205 | B9: 01 | D9: 084 | E9: 教育管理事务 | F9: =F10 -> 584.30815 | G9: =SUM(H9:K9) -> 0.6525 | K9: ='6、基本-工资福利'!AA10*0.01 -> 0.6525 | L9: =SUM(M9:N9) -> 0 | O9: 084 | P9: 教育管理事务 | Q9: 584.30815
A10: 205 | B10: 01 | C10: 02 | D10: 084 | E10: 一般行政管理事务 | F10: =G10+L10 -> 584.30815 | G10: =SUM(H10:K10) -> 0.6525 | K10: ='6、基本-工资福利'!AA11*0.01 -> 0.6525 | L10: =SUM(M10:N10) -> 583.65565 | N10: =Q10-G10 -> 583.65565 | O10: 084 | P10: 一般行政管理事务 | Q10: 584.30815
A11: 205 | B11: 02 | D11: 084 | E11: 普通教育 | F11: =G11+L11 -> 55050.84 | G11: =SUM(H11:K11) -> 106.99296 | K11: ='6、基本-工资福利'!AA12*0.01 -> 106.99296 | L11: =SUM(M11:N11) -> 54943.847 | N11: =Q11-G11 -> 54943.847 | O11: 084 | P11: 普通教育 | Q11: 55050.84
A12: 205 | B12: 02 | C12: 01 | D12: 084 | E12: 学前教育 | F12: =G12+L12 -> 5957.92 | G12: =SUM(H12:K12) -> 22.1489 | K12: ='6、基本-工资福利'!AA13*0.01 -> 22.1489 | L12: =SUM(M12:N12) -> 5935.7711 | N12: =Q12-G12 -> 5935.7711 | O12: 084 | P12: 学前教育 | Q12: 5957.92
A13: 205 | B13: 02 | C13: 02 | D13: 084 | E13: 小学教育 | F13: =G13+L13 -> 21491.606 | G13: =SUM(H13:K13) -> 28.087 | K13: ='6、基本-工资福利'!AA14*0.01 -> 28.087 | L13: =SUM(M13:N13) -> 21463.519 | N13: =Q13-G13 -> 21463.519 | O13: 084 | P13: 小学教育 | Q13: 21491.606
A14: 205 | B14: 02 | C14: 03 | D14: 084 | E14: 初中教育 | F14: =G14+L14 -> 16619.21 | G14: =SUM(H14:K14) -> 27.1622 | K14: ='6、基本-工资福利'!AA15*0.01 -> 27.1622 | L14: =SUM(M14:N14) -> 16592.048 | N14: =Q14-G14 -> 16592.048 | O14: 084 | P14: 初中教育 | Q14: 16619.21
A15: 205 | B15: 02 | C15: 04 | D15: 084 | E15: 高中教育 | F15: =G15+L15 -> 10982.104 | G15: =SUM(H15:K15) -> 29.594863 | K15: ='6、基本-工资福利'!AA16*0.01 -> 29.594863 | L15: =SUM(M15:N15) -> 10952.509 | N15: =Q15-G15 -> 10952.509 | O15: 084 | P15: 高中教育 | Q15: 10982.104
A16: 205 | B16: 03 | D16: 084 | E16: 职业教育 | F16: =G16+L16 -> 7545.7327 | G16: =SUM(H16:K16) -> 7.1647 | K16: ='6、基本-工资福利'!AA17*0.01 -> 7.1647 | L16: =SUM(M16:N16) -> 7538.568 | N16: =Q16-G16 -> 7538.568 | O16: 084 | P16: 职业教育 | Q16: 7545.7327
A17: 205 | B17: 03 | C17: 02 | D17: 084 | E17: 中职业教育 | F17: =G17+L17 -> 7545.7327 | G17: =SUM(H17:K17) -> 7.1647 | K17: ='6、基本-工资福利'!AA18*0.01 -> 7.1647 | L17: =SUM(M17:N17) -> 7538.568 | N17: =Q17-G17 -> 7538.568 | O17: 084 | P17: 中职业教育 | Q17: 7545.7327
A18: 205 | B18: 07 | D18: 084 | E18: 特殊教育 | F18: =G18+L18 -> 1266.9868 | G18: =SUM(H18:K18) -> 1.3183 | K18: ='6、基本-工资福利'!AA19*0.01 -> 1.3183 | L18: =SUM(M18:N18) -> 1265.6685 | N18: =Q18-G18 -> 1265.6685 | O18: 084 | P18: 特殊教育 | Q18: 1266.9868
A19: 205 | B19: 07 | C19: 01 | D19: 084 | E19: 特殊学校教育 | F19: =G19+L19 -> 1266.9868 | G19: =SUM(H19:K19) -> 1.3183 | K19: ='6、基本-工资福利'!AA20*0.01 -> 1.3183 | L19: =SUM(M19:N19) -> 1265.6685 | N19: =Q19-G19 -> 1265.6685 | O19: 084 | P19: 特殊学校教育 | Q19: 1266.9868

Sheet 8、基本-一般商品服务
Y1: 表-08
A2: 一般商品和服务支出预算表
A3: 单位：岳阳县教育体育局(汇总) | Y3: 单位:万元
A4: 科目编码 | D4: 单位代码 | E4: 单位名称（功能科目） | F4: 总计 | G4: 办公费 | H4: 印刷费 | I4: 水费 | J4: 电费 | K4: 邮电费 | L4: 物业管理费 | M4: 差旅费 | N4: 因公出国(境)费用 | O4: 维修（护）费 | P4: 会议费 | Q4: 培训费 | R4: 公务接待费 | S4: 工会经费 | T4: 福利费 | U4: 公务用车运行维护费 | V4: 公务交通补贴 | W4: 其他交通费用 | X4: 离退休公用支出 | Y4: 离退休党建经费 | Z4: 其他
A5: 类 | B5: 款 | C5: 项
A7: ** | B7: ** | C7: ** | D7: ** | E7: ** | F7: 1 | G7: 2 | H7: 3 | I7: 4 | J7: 5 | K7: 6 | L7: 7 | M7: 8 | N7: 9 | O7: 10 | P7: 11 | Q7: 12 | R7: 13 | S7: 14 | T7: 15 | U7: 16 | V7: 17 | W7: 18 | X7: 19 | Y7: 20 | Z7: 21
A8: 合计 | D8: 084 | E8: 岳阳县教育体育局(汇总)教育支出 | F8: =SUM(G8:Z8) -> 15336.171 | G8: =G9 -> 1002.42 | H8: =H9 -> 708.58 | I8: =I9 -> 528.57277 | J8: =J9 -> 927.10229 | K8: =K9 -> 195.57768 | L8: =L9 -> 929.52133 | M8: =M9 -> 319.4785 | N8: =N9 -> 0 | ... Z8: =Z9 -> 4106.6095
A9: 205 | E9: 教育支出 | F9: =SUM(G9:Z9) -> 15336.171 | G9: =G10+G12+G17+G19 -> 1002.42 | H9: =H10+H12+H17+H19 -> 708.58 | I9: =I10+I12+I17+I19 -> 528.57277 | J9: =J10+J12+J17+J19 -> 927.10229 | K9: =K10+K12+K17+K19 -> 195.57768 | L9: =L10+L12+L17+L19 -> 929.52133 | M9: =M10+M12+M17+M19 -> 319.4785 | N9: =N10+N12+N17+N19 -> 0 | ... Z9: =Z10+Z12+Z17+Z19 -> 4106.6095
A10: 205 | B10: 01 | E10: 教育管理事务 | F10: =SUM(G10:Z10) -> 275.45 | G10: =G11 -> 24.52 | H10: =H11 -> 15.82 | I10: =I11 -> 11.85 | J10: =J11 -> 21.05 | K10: =K11 -> 4.62 | L10: =L11 -> 21.05 | M10: =M11 -> 7.75 | N10: =N11 -> 0 | ... Z10: =Z11 -> 11.85
A11: 205 | B11: 01 | C11: 02 | D11: 084 | E11: 一般行政管理事务 | F11: =SUM(G11:Z11) -> 275.45 | G11: 24.52 | H11: 15.82 | I11: 11.85 | J11: 21.05 | K11: 4.62 | L11: 21.05 | M11: 7.75 | O11: 75.45 | P11: 6.45 | Q11: 28.05 | R11: 4.52 | S11: 25.42 | T11: 1.05 | W11: 11.65 | Y11: 4.35 | Z11: 11.85
A12: 205 | B12: 02 | E12: 普通教育 | F12: =SUM(G12:Z12) -> 14331.698 | G12: =G13+G14+G15+G16 -> 920.4 | H12: =H13+H14+H15+H16 -> 650.7 | I12: =I13+I14+I15+I16 -> 486.23535 | J12: =J13+J14+J15+J16 -> 849.80102 | K12: =K13+K14+K15+K16 -> 179.05891 | L12: =L13+L14+L15+L16 -> 850.6105 | M12: =M13+M14+M15+M16 -> 290.31863 | N12: =N13+N14+N15+N16 -> 0 | ... Z12: =Z13+Z14+Z15+Z16 -> 4051.2501
A13: 205 | B13: 02 | C13: 01 | D13: 084 | E13: 学前教育 | F13: =SUM(G13:Z13) -> 1566.0024 | G13: 88.2 | H13: 65.06 | I13: 45.229265 | J13: 83.513522 | K13: 17.596872 | L13: 83.335306 | M13: 28.530834 | N13: 0 | O13: 295.39 | P13: 25.000472 | Q13: 110.70617 | R13: 14.15 | S13: 98.05 | T13: 3 | U13: 0 | V13: 0 | W13: 42.26 | X13: 0 | Y13: 15.6 | Z13: 550.38
A14: 205 | B14: 02 | C14: 02 | D14: 084 | E14: 小学教育 | F14: =SUM(G14:Z14) -> 6081.5076 | G14: 428.75 | H14: 306.41 | I14: 227.05786 | J14: 400.78622 | K14: 84.448408 | L14: 399.93095 | M14: 136.92112 | N14: 0 | O14: 1368.2 | P14: 119.97871 | Q14: 531.28533 | R14: 23.84 | S14: 485.58098 | T14: 19.197762 | U14: 0 | V14: 0 | W14: 213.34999 | X14: 0 | Y14: 79.938192 | Z14: 1255.8321
A15: 205 | B15: 02 | C15: 03 | D15: 084 | E15: 初中教育 | F15: =SUM(G15:Z15) -> 3886.5608 | G15: 246.2 | H15: 172.02 | I15: 136.16727 | J15: 225.57561 | K15: 47.53033 | L15: 225.09424 | M15: 77.063692 | N15: 0 | O15: 772.2 | P15: 65.23 | Q15: 299.02478 | R15: 24.7338 | S15: 273.30088 | T15: 10.805129 | U15: 0 | V15: 0 | W15: 120.08036 | X15: 0 | Y15: 44.991833 | Z15: 1146.5429
A16: 205 | B16: 02 | C16: 04 | D16: 084 | E16: 高中教育 | F16: =SUM(G16:Z16) -> 2797.627 | G16: 157.25 | H16: 107.21 | I16: 77.78096 | J16: 139.92566 | K16: 29.483298 | L16: 142.25 | M16: 47.802987 | N16: 0 | O16: 477.52105 | P16: 41.88792 | Q16: 184.05 | R16: 15.342498 | S16: 169.52988 | T16: 6.702475 | U16: 0 | V16: 0 | W16: 74.486441 | X16: 0 | Y16: 27.908655 | Z16: 1098.4952
A17: 205 | B17: 03 | D17: 084 | E17: 职业教育 | F17: =SUM(G17:Z17) -> 598.51348 | G17: =G18 -> 48 | H17: =H18 -> 34.96 | I17: =I18 -> 25.402736 | J17: =J18 -> 46.867308 | K17: =K18 -> 9.9149086 | L17: =L18 -> 48.5 | M17: =M18 -> 18.2 | N17: =N18 -> 0 | ... Z17: =Z18 -> 25.419329
A18: 205 | B18: 03 | C18: 02 | D18: 084 | E18: 中职业教育 | F18: =SUM(G18:Z18) -> 598.51348 | G18: 48 | H18: 34.96 | I18: 25.402736 | J18: 46.867308 | K18: 9.9149086 | L18: 48.5 | M18: 18.2 | N18: 0 | O18: 162.25 | P18: 15.02 | Q18: 62.12253 | R18: 6.12 | S18: 58.52 | T18: 2.31 | U18: 0 | V18: 0 | W18: 25.52 | X18: 0 | Y18: 9.3866638 | Z18: 25.419329
A19: 205 | B19: 07 | D19: 084 | E19: 特殊教育 | F19: =SUM(G19:Z19) -> 130.50987 | G19: =G20 -> 9.5 | H19: =H20 -> 7.1 | I19: =I20 -> 5.0846787 | J19: =J20 -> 9.383964 | K19: =K20 -> 1.9838619 | L19: =L20 -> 9.3608318 | M19: =M20 -> 3.2098687 | N19: =N20 -> 0 | ... Z19: =Z20 -> 18.09
A20: 205 | B20: 07 | C20: 01 | D20: 084 | E20: 特殊学校教育 | F20: =SUM(G20:Z20) -> 130.50987 | G20: 9.5 | H20: 7.1 | I20: 5.0846787 | J20: 9.383964 | K20: 1.9838619 | L20: 9.3608318 | M20: 3.2098687 | N20: 0 | O20: 31.811958 | P20: 2.8144181 | Q20: 12.433009 | R20: 1.0442538 | S20: 11.362318 | T20: 0.45713641 | U20: 0 | V20: 0 | W20: 4.9954545 | X20: 0 | Y20: 1.8781146 | Z20: 18.09
C24: 11779.11

Sheet 9、商品服务(政府预算)
T1: 表-09
A2: 一般商品和服务支出预算(按政府预算)
A3: 单位：岳阳县教育体育局(汇总) | S3: 单位：万元
A4: 科目编码 | D4: 单位显示编码 | E4: 功能科目名称 | F4: 总计 | G4: 机关商品和服务支出 | R4: 对事业单位经常性补助
G5: 小计 | H5: 办公经费 | I5: 会议费 | J5: 培训费 | K5: 专用材料购置费 | L5: 委托业务费 | M5: 公务接待费 | N5: 因公出国(境费用 | O5: 公务用车运行维护费 | P5: 维修(护费 | Q5: 其他商品和服务支出 | R5: 小计 | S5: 商品和服务支出 | T5: 其他对事业单位补助
A6: 类 | B6: 款 | C6: 项
A7: 合计 | D7: 084 | E7: 岳阳县教育体育局(汇总) | F7: =F8 -> 15336.174 | G7: =G8 -> 185.58639 | H7: =H8 -> 19.181799 | I7: =I8 -> 6.7316766 | J7: =J8 -> 24.101881 | K7: =K8 -> 0 | L7: =L8 -> 0 | M7: =M8 -> 1.9530608 | ... Q7: =Q8 -> 112.5684 | R7: =S7+T7 -> 15150.588 | T7: 15150.588
A8: 205 | E8: 教育支出 | F8: =F9+F11+F16+F18 -> 15336.174 | G8: =G9+G11+G16+G18 -> 185.58639 | H8: =H9+H11+H16+H18 -> 19.181799 | I8: =I9+I11+I16+I18 -> 6.7316766 | J8: =J9+J11+J16+J18 -> 24.101881 | K8: =K9+K11+K16+K18 -> 0 | L8: =L9+L11+L16+L18 -> 0 | M8: =M9+M11+M16+M18 -> 1.9530608 | ... Q8: =Q9+Q11+Q16+Q18 -> 112.5684 | R8: =S8+T8 -> 15150.588 | T8: 15150.588 | U8: 一般行政管理事务 | V8: 274.35
A9: 205 | B9: 01 | E9: 教育管理事务 | F9: =F10 -> 274.35 | G9: =G10 -> 4.2677353 | H9: =H10 -> 0.37066344 | I9: =I10 -> 0.12933133 | J9: =J10 -> 0.46 | K9: =K10 -> 0 | L9: =L10 -> 0 | M9: =M10 -> 0.037740504 | ... Q9: =Q10 -> 2.14 | R9: =S9+T9 -> 270.08226 | T9: 270.08226 | U9: 普通教育 | V9: 14345.803
A10: 205 | B10: 01 | C10: 02 | D10: 084 | E10: 一般行政管理事务 | F10: =G10+R10 -> 274.35 | G10: =SUM(H10:Q10) -> 4.2677353 | H10: 0.37066344 | I10: 0.12933133 | J10: 0.46 | K10: 0 | L10: 0 | M10: 0.037740504 | N10: 0 | O10: 0 | P10: 1.13 | Q10: 2.14 | R10: =S10+T10 -> 270.08226 | T10: 270.08226 | U10: 学前教育 | V10: 1560.0024
A11: 205 | B11: 02 | E11: 普通教育 | F11: =G11+R11 -> 14345.803 | G11: =G12+G13+G14+G15 -> 169.28277 | H11: 17.711588 | I11: 6.2229847 | J11: 22.263305 | K11: 0 | L11: 0 | M11: 1.8033792 | N11: 0 | O11: 0 | P11: 55.061361 | Q11: 103.97389 | R11: =S11+T11 -> 14176.52 | T11: 14176.52 | U11: 小学教育 | V11: 6101.6128
A12: 205 | B12: 02 | C12: 01 | D12: 084 | E12: 学前教育 | F12: =G12+R12 -> 1560.0024 | G12: =SUM(H12:Q12) -> 21.362774 | H12: 2.9355477 | I12: 1.28 | J12: 2.4329659 | K12: 0 | L12: 0 | M12: 0.19707587 | N12: 0 | O12: 0 | P12: 6.0171846 | Q12: 8.5 | R12: =S12+T12 -> 1538.6397 | T12: 1538.6397 | U12: 初中教育 | V12: 3886.5608 | W12: 1131.17
A13: 205 | B13: 02 | C13: 02 | D13: 084 | E13: 小学教育 | F13: =G13+R13 -> 6101.6128 | G13: =SUM(H13:Q13) -> 85.163677 | H13: 6.2698307 | I13: 2.45 | J13: 10.25 | K13: 0 | L13: 0 | M13: 0.94384648 | N13: 0 | O13: 0 | P13: 24 | Q13: 41.25 | R13: =S13+T13 -> 6016.4492 | T13: 6016.4492 | U13: 高中教育 | V13: 2797.627 | W13: 4741.87
A14: 205 | B14: 02 | C14: 03 | D14: 084 | E14: 初中教育 | F14: =G14+R14 -> 3886.5608 | G14: =SUM(H14:Q14) -> 31.120314 | H14: 3.25 | I14: 1.023695 | J14: 4.1068747 | K14: 0 | L14: 0 | M14: 0.33266635 | N14: 0 | O14: 0 | P14: 10.157077 | Q14: 12.25 | R14: =S14+T14 -> 3855.4405 | T14: 3855.4405 | U14: 职业教育 | V14: 598.51348 | W14: 2837.4
A15: 205 | B15: 02 | C15: 04 | D15: 084 | E15: 高中教育 | F15: =G15+R15 -> 2797.627 | G15: =SUM(H15:Q15) -> 31.636007 | H15: 3.12 | I15: 1.0148453 | J15: 4.0713713 | K15: 0 | L15: 0 | M15: 0.32979049 | N15: 0 | O15: 0 | P15: 9.5 | Q15: 13.6 | R15: =S15+T15 -> 2765.991 | T15: 2765.991 | U15: 中职业教育 | V15: 598.51348 | W15: 1951.18
A16: 205 | B16: 03 | E16: 职业教育 | F16: =G16+R16 -> 598.51348 | G16: =G17 -> 9.9048291 | H16: 0.9171554 | I16: 0.31586511 | J16: 1.1496206 | K16: 0 | L16: 0 | M16: 0.093372841 | N16: 0 | O16: 0 | P16: 2.8488151 | Q16: 5.3837935 | R16: =S16+T16 -> 588.60865 | T16: 588.60865 | U16: 特殊教育 | V16: 117.50785
A17: 205 | B17: 03 | C17: 02 | D17: 084 | E17: 中职业教育 | F17: =G17+R17 -> 598.51348 | G17: =SUM(H17:Q17) -> 9.9048291 | H17: 0.9171554 | I17: 0.31586511 | J17: 1.1496206 | K17: 0 | L17: 0 | M17: 0.093372841 | N17: 0 | O17: 0 | P17: 2.8488151 | Q17: 4.58 | R17: =S17+T17 -> 588.60865 | T17: 588.60865 | U17: 特殊学校教育 | V17: 117.50785
A18: 205 | B18: 07 | E18: 特殊教育 | F18: =G18+R18 -> 117.50785 | G18: =G19 -> 2.1310516 | H18: 0.18239267 | I18: 0.063495406 | J18: 0.22895592 | K18: 0 | L18: 0 | M18: 0.01856823 | N18: 0 | O18: 0 | P18: 0.56692915 | Q18: 1.0707102 | R18: =S18+T18 -> 115.3768 | T18: 115.3768
A19: 205 | B19: 07 | C19: 01 | D19: 084 | E19: 特殊学校教育 | F19: =G19+R19 -> 117.50785 | G19: =SUM(H19:Q19) -> 2.1310516 | H19: 0.18239267 | I19: 0.063495406 | J19: 0.22895592 | K19: 0 | L19: 0 | M19: 0.01856823 | N19: 0 | O19: 0 | P19: 0.56692915 | Q19: 1.0707102 | R19: =S19+T19 -> 115.3768 | T19: 115.3768

Sheet 10、基本-个人和家庭
L1: 表-10
A2: 对个人和家庭的补助支出预算表
A3: 单位：岳阳县教育体育局(汇总) | K3: 单位：万元
A4: 科目编码 | D4: 单位编码 | E4: 单位名称（功能科目） | F4: 总计 | G4: 离休费 | H4: 离休生活补贴 | I4: 老干费 | J4: 医疗费补助 | K4: 助学金 | L4: 其他
A5: 类 | B5: 款 | C5: 项
A7: ** | B7: ** | C7: ** | D7: ** | E7: ** | F7: 1 | G7: 2 | H7: 3 | I7: 4 | J7: 5 | K7: 6 | L7: 7
A8: 合计 | D8: 084 | E8: 岳阳县教育体育局(汇总) | F8: =F9 -> 15667.989 | G8: =G9 -> 160.89947 | H8: =H9 -> 0 | I8: =I9 -> 12231.615 | J8: =J9 -> 21.04 | K8: =K9 -> 1471.0342 | L8: =L9 -> 1783.4005
A9: 205 | D9: 084 | E9: 教育支出 | F9: =F10+F12+F17+F19 -> 15667.989 | G9: =G10+G12+G17+G19 -> 160.89947 | H9: =H10+H12+H17+H19 -> 0 | I9: =I10+I12+I17+I19 -> 12231.615 | J9: =J10+J12+J17+J19 -> 21.04 | K9: =K10+K12+K17+K19 -> 1471.0342 | L9: =L10+L12+L17+L19 -> 1783.4005
A10: 205 | B10: 01 | D10: 084 | E10: 教育管理事务 | F10: =F11 -> 496.56 | G10: =G11 -> 4.97 | H10: =H11 -> 0 | I10: =I11 -> 381.17 | J10: =J11 -> 0.65 | K10: =K11 -> 45.52 | L10: =L11 -> 64.25
A11: 205 | B11: 01 | C11: 02 | D11: 084 | E11: 一般行政管理事务 | F11: =SUM(G11:L11) -> 496.56 | G11: 4.97 | I11: 381.17 | J11: 0.65 | K11: 45.52 | L11: 64.25
A12: 205 | B12: 02 | E12: 普通教育 | F12: =SUM(F13+F14+F15+F16) -> 14204.384 | G12: =SUM(G13+G14+G15+G16) -> 146.26748 | H12: =SUM(H13+H14+H15+H16) -> 0 | I12: =SUM(I13+I14+I15+I16) -> 11116.329 | J12: =SUM(J13+J14+J15+J16) -> 19.19 | K12: =SUM(K13+K14+K15+K16) -> 1336.85 | L12: =SUM(L13+L14+L15+L16) -> 1585.7475
A13: 205 | B13: 02 | C13: 01 | D13: 084 | E13: 学前教育 | F13: =SUM(G13:L13) -> 486.56445 | G13: 4.8755827 | I13: 370.54429 | J13: 0.63 | K13: 43.2 | L13: 67.314586
A14: 205 | B14: 02 | C14: 02 | D14: 084 | E14: 小学教育 | F14: =SUM(G14:L14) -> 2538.8823 | G14: 24.377914 | I14: 1852.7214 | J14: 3.21 | K14: 222 | L14: 436.57293
A15: 205 | B15: 02 | C15: 03 | D15: 084 | E15: 初中教育 | F15: =SUM(G15:L15) -> 4296.4988 | G15: 43.880244 | I15: 3334.8986 | J15: 5.74 | K15: 410.15 | L15: 501.83
A16: 205 | B16: 02 | C16: 04 | D16: 084 | E16: 高中教育 | F16: =SUM(G16:L16) -> 6882.438 | G16: 73.133741 | I16: 5558.1643 | J16: 9.61 | K16: 661.5 | L16: 580.03
A17: 205 | B17: 03 | D17: 084 | E17: 职业教育 | F17: =SUM(G17:L17) -> 806.0419 | G17: 8.0516599 | H17: 0 | I17: 611.92615 | J17: 1.02 | K17: 73.874092 | L17: 111.17
A18: 205 | B18: 03 | C18: 02 | D18: 084 | E18: 中职业教育 | F18: =SUM(G18:L18) -> 806.0419 | G18: 8.0516599 | I18: 611.92615 | J18: 1.02 | K18: 73.874092 | L18: 111.17
A19: 205 | B19: 07 | D19: 084 | E19: 特殊教育 | F19: =SUM(G19:L19) -> 161.00345 | G19: 1.610332 | H19: 0 | I19: 122.19 | J19: 0.18 | K19: 14.790123 | L19: 22.233
A20: 205 | B20: 07 | C20: 01 | D20: 084 | E20: 特殊学校教育 | F20: =SUM(G20:L20) -> 161.00345 | G20: 1.610332 | I20: 122.19 | J20: 0.18 | K20: 14.790123 | L20: 22.233
E22: 16030.47
A23: 科目编码 | D23: 单位编码 | E23: 单位名称（功能科目） | F23: 总计 | G23: 离休费 | H23: 离休生活补贴 | I23: 老干费 | J23: 医疗费补助 | K23: 助学金 | L23: 其他
A24: 类 | B24: 款 | C24: 项
A26: ** | B26: ** | C26: ** | D26: ** | E26: ** | F26: 1 | G26: 2 | H26: 3 | I26: 4 | J26: 5 | L26: 6
A27: 合计 | D27: 084 | E27: 岳阳县教育体育局(汇总) | F27: =SUM(G27:L27) -> 16103.317 | G27: =G28 -> 160.89947 | I27: =I28 -> 12231.81 | J27: =J28 -> 21.29235 | K27: =K28 -> 1478.588 | L27: =L28 -> 2210.7268
A28: 205 | D28: 084 | E28: 教育支出 | F28: =SUM(G28:L28) -> 16103.317 | G28: =G29+G31+G36+G38 -> 160.89947 | I28: =I29+I31+I36+I38 -> 12231.81 | J28: =J29+J31+J36+J38 -> 21.29235 | K28: =K29+K31+K36+K38 -> 1478.588 | L28: =L29+L31+L36+L38 -> 2210.7268
A29: 205 | B29: 01 | D29: 084 | E29: 教育管理事务 | F29: =SUM(G29:L29) -> 502.11 | G29: =G30 -> 4.97 | H29: =H30 -> 0 | I29: =I30 -> 381.17 | J29: =J30 -> 0.66 | K29: =K30 -> 46.06 | L29: =L30 -> 69.25
A30: 205 | B30: 01 | C30: 02 | D30: 084 | E30: 一般行政管理事务 | F30: =SUM(G30:L30) -> 502.11 | G30: 4.97 | I30: 381.17 | J30: 0.66 | K30: 46.06 | L30: 69.25
A31: 205 | B31: 02 | D31: 084 | E31: 普通教育 | F31: =SUM(G31:L31) -> 14633.892 | G31: =SUM(G32:G35) -> 146.26748 | H31: =SUM(H32:H35) -> 0 | I31: =SUM(I32:I35) -> 11116.329 | J31: =SUM(J32:J35) -> 19.353583 | K31: =SUM(K32:K35) -> 1343.8637 | L31: =SUM(L32:L35) -> 2008.0788
A32: 205 | B32: 02 | C32: 01 | D32: 084 | E32: 学前教育 | F32: =SUM(G32:L32) -> 488.17503 | G32: 4.8755827 | I32: 370.54429 | J32: 0.64511943 | K32: 44.795458 | L32: 67.314586
A33: 205 | B33: 02 | C33: 02 | D33: 084 | E33: 小学教育 | F33: =SUM(G33:L33) -> 2440.8752 | G33: 24.377914 | I33: 1852.7214 | J33: 3.2255971 | K33: 223.97729 | L33: 336.57293
A34: 205 | B34: 02 | C34: 03 | D34: 084 | E34: 初中教育 | F34: =SUM(G34:L34) -> 4393.5753 | G34: 43.880244 | I34: 3334.8986 | J34: 5.8060749 | K34: 403.15912 | L34: 605.83127
A35: 205 | B35: 02 | C35: 04 | D35: 084 | E35: 高中教育 | F35: =SUM(G35:L35) -> 7311.2667 | G35: 73.133741 | I35: 5558.1643 | J35: 9.6767914 | K35: 671.93187 | L35: 998.36
A36: 205 | B36: 03 | D36: 084 | E36: 职业教育 | F36: =SUM(G36:L36) -> 806.08268 | G36: =G37 -> 8.0516599 | H36: =H37 -> 0 | I36: =I37 -> 611.92615 | J36: =J37 -> 1.0657759 | K36: =K37 -> 73.874092 | L36: =L37 -> 111.165
A37: 205 | B37: 03 | C37: 02 | D37: 084 | E37: 中职业教育 | F37: =SUM(G37:L37) -> 806.08268 | G37: 8.0516599 | I37: 611.92615 | J37: 1.0657759 | K37: 73.874092 | L37: 111.165
A38: 205 | B38: 07 | D38: 084 | E38: 特殊教育 | F38: =SUM(G38:L38) -> 161.23168 | G38: =G39 -> 1.610332 | H38: =H39 -> 0 | I38: =I39 -> 122.38523 | J38: =J39 -> 0.21299085 | K38: =K39 -> 14.790123 | L38: =L39 -> 22.233
A39: 205 | B39: 07 | C39: 01 | D39: 084 | E39: 特殊学校教育 | F39: =SUM(G39:L39) -> 161.23168 | G39: 1.610332 | I39: 122.38523 | J39: 0.21299085 | K39: 14.790123 | L39: 22.233

Sheet 11、个人家庭(政府预算)
K1: 表-11
A2: 对个人和家庭的补助支出预算表（按政府预算）
A3: 单位：岳阳县教育体育局(汇总) | J3: 单位：万元
A4: 科目编码 | D4: 单位显示编码 | E4: 功能科目名称 | F4: 对个人和家庭的补助
A5: 类 | B5: 款 | C5: 项 | F5: 小计 | G5: 社会福利和救助 | H5: 助学金 | I5: 个人农业生产补贴 | J5: 离退休费 | K5: 其他对个人和家庭补助
A7: 合计 | D7: 084 | E7: 教育支出 | F7: =F8 -> 15667.989 | G7: =G8 -> 0 | H7: =H8 -> 1471.0342 | I7: =I8 -> 0 | J7: =J8 -> 160.89947 | K7: =K8 -> 14454.385
A8: 205 | D8: 084 | E8: 教育支出 | F8: =F9+F11+F16+F18 -> 15667.989 | G8: =G9+G11+G16+G18 -> 0 | H8: =H9+H11+H16+H18 -> 1471.0342 | I8: =I9+I11+I16+I18 -> 0 | J8: =J9+J11+J16+J18 -> 160.89947 | K8: =K9+K11+K16+K18 -> 14454.385 | M8: 教育支出 | N8: =N9+N11+N16+N18 -> 30474.519 | O8: 16030.467
A9: 205 | B9: 01 | D9: 084 | E9: 教育管理事务 | F9: =F10 -> 496.56 | G9: =G10 -> 0 | H9: =H10 -> 45.52 | I9: =I10 -> 0 | J9: =J10 -> 4.97 | K9: =K10 -> 446.07 | M9: 教育管理事务 | N9: =N10 -> 999.25 | O9: 502.11 | T9: 教育管理事务 | U9: 496.56
A10: 205 | B10: 01 | C10: 02 | D10: 084 | E10: 一般行政管理事务 | F10: =SUM(G10:K10) -> 496.56 | H10: 45.52 | J10: 4.97 | K10: 446.07 | M10: 一般行政管理事务 | N10: =SUM(O10:T10) -> 999.25 | O10: 502.11 | P10: =O10-J10 -> 497.14 | T10: 一般行政管理事务 | U10: 496.56 | V10: =U10-J10-H10 -> 446.07
A11: 205 | B11: 02 | D11: 084 | E11: 普通教育 | F11: =SUM(F12:F15) -> 14204.384 | G11: =G12+G13+G14+G15 -> 0 | H11: 1336.85 | I11: 0 | J11: 146.26748 | K11: 13139.596 | M11: 普通教育 | N11: =N12+N13+N14+N15 -> 27638.667 | O11: 14560.892 | T11: 普通教育 | U11: 14204.384 | V11: =U11-J11-H11 -> 12721.266
A12: 205 | B12: 02 | C12: 01 | D12: 084 | E12: 学前教育 | F12: =SUM(G12:K12) -> 486.56445 | H12: 43.2 | J12: 4.8755827 | K12: 438.48887 | M12: 学前教育 | N12: =SUM(O12:T12) -> 928.27448 | O12: 488.17503 | Q12: =O12-(H12+J12) -> 440.09945 | T12: 学前教育 | U12: 486.56445 | V12: =U12-J12-H12 -> 438.48887
A13: 205 | B13: 02 | C13: 02 | D13: 084 | E13: 小学教育 | F13: =SUM(G13:K13) -> 2538.8823 | H13: 222 | J13: 24.377914 | K13: 2292.5044 | M13: 小学教育 | N13: =SUM(O13:T13) -> 4635.3724 | O13: 2440.8752 | Q13: =O13-(H13+J13) -> 2194.4972 | T13: 小学教育 | U13: 2538.8823 | V13: =U13-J13-H13 -> 2292.5044
A14: 205 | B14: 02 | C14: 03 | D14: 084 | E14: 初中教育 | F14: =SUM(G14:K14) -> 4296.4988 | H14: 410.15 | J14: 43.880244 | K14: 3842.4686 | M14: 初中教育 | N14: =SUM(O14:T14) -> 8273.1203 | O14: 4363.5753 | Q14: =O14-(H14+J14) -> 3909.545 | T14: 初中教育 | U14: 4296.4988 | V14: =U14-J14-H14 -> 3842.4686
A15: 205 | B15: 02 | C15: 04 | D15: 084 | E15: 高中教育 | F15: =SUM(G15:K15) -> 6882.438 | H15: 661.5 | J15: 73.133741 | K15: 6147.8043 | M15: 高中教育 | N15: =SUM(O15:T15) -> 13801.9 | O15: 7268.2667 | Q15: =O15-(H15+J15) -> 6533.633 | T15: 高中教育 | U15: 6882.438 | V15: =U15-J15-H15 -> 6147.8043
A16: 205 | B16: 03 | D16: 084 | E16: 职业教育 | F16: =SUM(G16:K16) -> 806.0419 | G16: =G17 -> 0 | H16: 73.874092 | I16: 0 | J16: 8.0516583 | K16: 724.11615 | M16: 职业教育 | N16: =N17 -> 1530.2396 | O16: 806.08268 | Q16: =O16-(H16+J16) -> 724.15693 | T16: 职业教育 | U16: 806.0419 | V16: =U16-J16-H16 -> 724.11615
A17: 205 | B17: 03 | C17: 02 | D17: 084 | E17: 中职业教育 | F17: =SUM(G17:K17) -> 806.0419 | H17: 73.874092 | J17: 8.0516583 | K17: 724.11615 | M17: 中职业教育 | N17: =SUM(O17:T17) -> 1530.2396 | O17: 806.08268 | Q17: =O17-(H17+J17) -> 724.15693 | T17: 中职业教育 | U17: 806.0419 | V17: =U17-J17-H17 -> 724.11615
A18: 205 | B18: 07 | D18: 084 | E18: 特殊教育 | F18: =SUM(G18:K18) -> 161.00358 | G18: =G19 -> 0 | H18: 14.790123 | I18: 0 | J18: 1.6103317 | K18: 144.60312 | M18: 特殊教育 | N18: =N19 -> 306.3629 | O18: 161.38168 | Q18: =O18-(H18+J18) -> 144.98122 | T18: 特殊教育 | U18: 161.00345 | V18: =U18-J18-H18 -> 144.603
A19: 205 | B19: 07 | C19: 01 | D19: 084 | E19: 特殊学校教育 | F19: =SUM(G19:K19) -> 161.00358 | H19: 14.790123 | J19: 1.6103317 | K19: 144.60312 | M19: 特殊学校教育 | N19: =SUM(O19:T19) -> 306.3629 | O19: 161.38168 | Q19: =O19-(H19+J19) -> 144.98122 | T19: 特殊学校教育 | U19: 161.00345 | V19: =U19-J19-H19 -> 144.603

Sheet 12、财政拨款收支总表
F1: 表-12
A2: 财政拨款收支总表
A3: 单位：岳阳县教育体育局(汇总) | F3: 单位:万元
A4: 收 入 | C4: 支 出
A5: 项 目 | B5: 本年预算 | C5: 项 目 | D5: 合计 | E5: 一般公共预算 | F5: 政府性基金预算
A6: 一、一般公共预算拨款 | B6: =B7+B8 -> 96720 | C6: 一、一般公共服务支出
A7: 经费拨款 | B7: 96720 | C7: 二、国防支出
A8: 纳入一般公共预算管理的非税收入拨款 | C8: 三、公共安全支出
A9: 二、政府性基金拨款 | C9: 四、教育支出 | D9: =B26 -> 96720 | E9: =B26 -> 96720
C10: 五、科学技术支出
C11: 六、文化体育与传媒支出
C12: 七、社会保障和就业支出
C13: 八、医疗卫生与计划生育支出
C14: 九、节能环保支出
C15: 十、城乡社区支出
C16: 十一、农林水支出
C17: 十二、交通运输支出
C18: 十三、资源勘探信息等支出
C19: 十四、商业服务业等支出
C20: 十五、国土海洋气象等支出
C21: 十六、住房保障支出
... C25: 二十、债务还本支出
A26: 本 年 收 入 合 计 | B26: =B6+B9 -> 96720 | C26: 本 年 支 出 合 计 | D26: =D9 -> 96720 | E26: =E9 -> 96720

Sheet 13、一般预算支出
R1: 表-13
A2: 一般预算拨款支出预算表
A3: 单位：岳阳县教育体育局(汇总) | Q3: 单位：万元
A4: 功能科目 | C4: 单位代码 | D4: 单位名称（功能科目） | E4: 总计 | F4: 基本支出 | J4: 项目支出 | R4: 上缴上级支出
A5: 类 | B5: 款 | F5: 合计 | G5: 工资福利支出 | H5: 一般商品和服务支出 | I5: 对个人和家庭的补助 | J5: 合计 | K5: 专项商品和服务支出 | L5: 对企业补助 | M5: 债务利息及费用支出 | N5: 对社会保障基金补助 | O5: 资本性支出(基本建设) | P5: 资本性支出 | Q5: 其他支出
A7: ** | B7: ** | C7: ** | D7: ** | E7: 1 | F7: 2 | G7: 3 | H7: 4 | I7: 5 | J7: 6 | K7: 7 | L7: 8 | M7: 9 | N7: 10 | O7: 11 | P7: 12 | Q7: 13 | R7: 14
A8: 合计 | C8: 084 | D8: 岳阳县教育体育局(汇总) | E8: =E9 -> 96719.995 | F8: =F9 -> 87714.685 | G8: =G9 -> 60796.724 | H8: =H9 -> 11831.641 | I8: =I9 -> 15086.319 | J8: =SUM(K8:R8) -> 9005.3109 | K8: =K9 -> 578.13088 | L8: =L9 -> 0 | M8: =M9 -> 0 | N8: =N9 -> 0 | O8: =O9 -> 0 | P8: =P9 -> 3194.82 | Q8: =Q9 -> 5232.36
A9: 205 | C9: 084 | D9: 教育支出 | E9: =F9+J9 -> 96719.995 | F9: =SUM(F10:F13) -> 87714.685 | G9: =SUM(G10:G13) -> 60796.724 | H9: =SUM(H10:H13) -> 11831.641 | I9: =SUM(I10:I13) -> 15086.319 | J9: =SUM(K9:R9) -> 9005.3109 | K9: =SUM(K10:K13) -> 578.13088 | L9: =SUM(L10:L13) -> 0 | M9: =SUM(M10:M13) -> 0 | N9: =SUM(N10:N13) -> 0 | O9: =SUM(O10:O13) -> 0 | P9: =SUM(P10:P13) -> 3194.82 | Q9: =SUM(Q10:Q13) -> 5232.36
A10: 205 | B10: 01 | C10: 084 | D10: 教育管理事务 | E10: =F10+J10 -> 1973.9194 | F10: =SUM(G10:I10) -> 1766.8994 | G10: 1216.18 | H10: 235.65291 | I10: 315.06651 | J10: =SUM(K10:R10) -> 207.02 | K10: 58 | L10: 0 | M10: 0 | N10: 0 | O10: 0 | P10: 65 | Q10: 84.02
A11: 205 | B11: 02 | C11: 084 | D11: 普通教育 | E11: =F11+J11 -> 88121.674 | F11: =SUM(G11:I11) -> 79762.953 | G11: 55336.23 | H11: 10772.703 | I11: 13654.02 | J11: =SUM(K11:R11) -> 8358.7209 | K11: 426.08088 | P11: 2999.32 | Q11: 4933.32
A12: 205 | B12: 03 | C12: 084 | D12: 职业教育 | E12: =F12+J12 -> 5654.8819 | F12: =SUM(G12:I12) -> 5305.3819 | G12: 3642.2237 | H12: 706.95872 | I12: 956.19954 | J12: =SUM(K12:R12) -> 349.5 | K12: 82 | P12: 85.5 | Q12: 182
A13: 205 | B13: 07 | C13: 084 | D13: 特殊教育 | E13: =F13+J13 -> 969.52032 | F13: =SUM(G13:I13) -> 879.45032 | G13: 602.09061 | H13: 116.32645 | I13: 161.03326 | J13: =SUM(K13:R13) -> 90.07 | K13: 12.05 | P13: 45 | Q13: 33.02
F16: 合计 | G16: 工资福利支出 | H16: 一般商品和服务支出 | I16: 对个人和家庭的补助 | J16: 合计 | K16: 专项商品和服务支出 | L16: 对企业补助 | M16: 债务利息及费用支出 | N16: 对社会保障基金补助 | O16: 资本性支出(基本建设) | P16: 资本性支出 | Q16: 其他支出
F18: =F8/E8 -> 0.90689298 | G18: =G8/$F$8 -> 0.69311911 | H18: =H8/$F$8 -> 0.1348878 | I18: =I8/$F$8 -> 0.17199309 | J18: =J8/E8 -> 0.093107023 | K18: =K8/$J$8 -> 0.064198881 | L18: =L8/$J$8 -> 0 | M18: =M8/$J$8 -> 0 | N18: =N8/$J$8 -> 0 | O18: =O8/$J$8 -> 0 | P18: =P8/$J$8 -> 0.35477065 | Q18: =Q8/$J$8 -> 0.58103047
E19: 88745 | F19: =E19*F18 -> 80482.217 | G19: =$F$19*G18 -> 55783.763 | H19: =$F$19*H18 -> 10856.069 | I19: =$F$19*I18 -> 13842.385 | J19: =E19*J18 -> 8262.7828 | K19: =$J$19*K18 -> 530.46141 | L19: =$J$19*L18 -> 0 | M19: =$J$19*M18 -> 0 | N19: =$J$19*N18 -> 0 | O19: =$J$19*O18 -> 0 | P19: =$J$19*P18 -> 2931.3928 | Q19: =$J$19*Q18 -> 4800.9286
D21: 教育管理事务 | F21: =G10/$G$9 -> 0.020004038 | G21: =$G$19*F21 -> 1115.9005 | H21: =$H$19*F21 -> 217.16523 | I21: =$I$19*F21 -> 276.9036 | K21: =K$19*F21 -> 10.61137 | L21: =L$19*G21 -> 0 | M21: =M$19*H21 -> 0 | N21: =N$19*I21 -> 0 | O21: =O$19*J21 -> 0 | P21: =$P$19*F21 -> 58.639694 | Q21: =$Q$19*F21 -> 96.037959
D22: 普通教育 | F22: =G11/$G$9 -> 0.9101844 | G22: =$G$19*F22 -> 50773.511 | H22: =$H$19*F22 -> 9881.025 | I22: =$I$19*F22 -> 12599.123 | K22: =K$19*F22 -> 482.8177 | P22: =$P$19*F22 -> 2668.108 | Q22: =$Q$19*F22 -> 4369.7303
D23: 职业教育 | F23: =G12/$G$9 -> 0.059908222 | G23: =$G$19*F23 -> 3341.9061 | H23: =$H$19*F23 -> 650.36782 | I23: =$I$19*F23 -> 829.27267 | K23: =K$19*F23 -> 31.779 | P23: =$P$19*F23 -> 175.61453 | Q23: =$Q$19*F23 -> 287.6151
D24: 特殊教育 | F24: =G13/$G$9 -> 0.0099033397 | G24: =$G$19*F24 -> 552.44555 | H24: =$H$19*F24 -> 107.51134 | I24: =$I$19*F24 -> 137.08584 | K24: =K$19*F24 -> 5.2533395 | P24: =$P$19*F24 -> 29.030579 | Q24: =$Q$19*F24 -> 47.545226
G27: 1072.1005 | H27: 208.61669 | I27: 283.91136 | K27: 19.342445 | L27: 0 | M27: 0 | N27: 0 | O27: 0 | P27: 88.365979 | Q27: 102.56368
G28: 48780.553 | H28: 9492.0554 | I28: 12917.962 | K28: 880.08088 | P28: 4020.6504 | Q28: 4666.6457
G29: 3216.3015 | H29: 625.85006 | I29: 851.73408 | K29: 58.027334 | P29: 265.09794 | Q29: 307.69105
G30: 536.05025 | H30: 104.30834 | I30: 141.95568 | K30: 9.6712223 | P30: 44.182989 | Q30: 51.281842

Sheet 14、一般预算基本支出表
H1: 表-14
A2: 一般预算拨款基本支出预算表
A3: 单位：岳阳县教育体育局(汇总) | H3: 单位：万元
A4: 功能科目 | C4: 单位代码 | D4: 单位名称（功能科目） | E4: 基本支出
A5: 类 | B5: 款 | E5: 合计 | F5: 工资福利支出 | G5: 一般商品和服务支出 | H5: 对个人和家庭的补助
A7: ** | B7: ** | C7: ** | D7: ** | E7: 2 | F7: 3 | G7: 4 | H7: 5
A8: 合计 | C8: 084 | D8: 岳阳县教育体育局(汇总) | E8: =E9 -> 87714.685 | F8: =F9 -> 60796.724 | G8: =G9 -> 11831.641 | H8: =H9 -> 15086.319
A9: 205 | C9: 084 | D9: 教育支出 | E9: =SUM(E10:E13) -> 87714.685 | F9: =SUM(F10:F13) -> 60796.724 | G9: =SUM(G10:G13) -> 11831.641 | H9: =SUM(H10:H13) -> 15086.319
A10: 205 | B10: 01 | C10: 084 | D10: 教育管理事务 | E10: =SUM(F10:H10) -> 1766.8994 | F10: 1216.18 | G10: 235.65291 | H10: 315.06651
A11: 205 | B11: 02 | C11: 084 | D11: 普通教育 | E11: =SUM(F11:H11) -> 79762.953 | F11: 55336.23 | G11: 10772.703 | H11: 13654.02
A12: 205 | B12: 03 | C12: 084 | D12: 职业教育 | E12: =SUM(F12:H12) -> 5305.3819 | F12: 3642.2237 | G12: 706.95872 | H12: 956.19954
A13: 205 | B13: 07 | C13: 084 | D13: 特殊教育 | E13: =SUM(F13:H13) -> 879.45032 | F13: 602.09061 | G13: 116.32645 | H13: 161.03326
E18: 合计 | F18: 工资福利支出 | G18: 一般商品和服务支出 | H18: 对个人和家庭的补助
E20: 2 | F20: 3 | G20: 4 | H20: 5
E21: =E23 -> 80564.95 | F21: =F23 -> 55203.98 | G21: =G23 -> 10741.97 | H21: =H23 -> 14619
E22: 88745 | F22: =F21/$E$21 -> 0.68521088 | G22: =G21/$E$21 -> 0.13333304 | H22: =H21/$E$21 -> 0.18145608
E23: =SUM(E24:E27) -> 80564.95 | F23: =SUM(F24:F27) -> 55203.98 | G23: =SUM(G24:G27) -> 10741.97 | H23: =SUM(H24:H27) -> 14619
D24: =F24/$F$23 -> 0.020000007 | E24: =SUM(F24:H24) -> 1648.02 | F24: 1104.08 | G24: 276.94 | H24: 267
D25: =F25/$F$23 -> 0.90999997 | E25: =SUM(F25:H25) -> 73419.69 | F25: 50235.62 | G25: 9785.07 | H25: 13399
D26: =F26/$F$23 -> 0.060000022 | E26: =SUM(F26:H26) -> 4824.9 | F26: 3312.24 | G26: 634.06 | H26: 878.6
